Workbook
Name CODI_ISTITUZIONE: #REF!
Name CODI_ISTITUZIONE: #REF!
Name CODI_ISTITUZIONE: #REF!
Name CODI_ISTITUZIONE: #REF!
Name CODI_ISTITUZIONE: #REF!
Name CODI_ISTITUZIONE: #REF!
Name CODI_ISTITUZIONE: #REF!
Name CODI_ISTITUZIONE: #REF!
Name CODI_ISTITUZIONE2: #REF!
Name CODI_ISTITUZIONE2: #REF!
Name CODI_ISTITUZIONE2: #REF!
Name CODI_ISTITUZIONE2: #REF!
Name CODI_ISTITUZIONE2: #REF!
Name CODI_ISTITUZIONE2: #REF!
Name CODI_ISTITUZIONE2: #REF!
Name CODI_ISTITUZIONE2: #REF!
Name CODI_ISTITUZIONE2: #REF!
Name CODI_ISTITUZIONE2: #REF!
Name CODI_ISTITUZIONE2: #REF!
Name CODI_ISTITUZIONE2: #REF!
Name CODI_ISTITUZIONE2: #REF!
Name CODI_ISTITUZIONE2: #REF!
Name CODI_ISTITUZIONE2: #REF!
Name CODI_ISTITUZIONE2: #REF!
Name CODI_ISTITUZIONE2: #REF!
Name DESC_ISTITUZIONE: #REF!
Name DESC_ISTITUZIONE: #REF!
Name DESC_ISTITUZIONE: #REF!
Name DESC_ISTITUZIONE: #REF!
Name DESC_ISTITUZIONE: #REF!
Name DESC_ISTITUZIONE: #REF!
Name DESC_ISTITUZIONE: #REF!
Name DESC_ISTITUZIONE: #REF!
Name DESC_ISTITUZIONE2: #REF!
Name DESC_ISTITUZIONE2: #REF!
Name DESC_ISTITUZIONE2: #REF!
Name DESC_ISTITUZIONE2: #REF!
Name DESC_ISTITUZIONE2: #REF!
Name DESC_ISTITUZIONE2: #REF!
Name DESC_ISTITUZIONE2: #REF!
Name DESC_ISTITUZIONE2: #REF!
Name DESC_ISTITUZIONE2: #REF!
Name DESC_ISTITUZIONE2: #REF!
Name DESC_ISTITUZIONE2: #REF!
Name DESC_ISTITUZIONE2: #REF!
Name DESC_ISTITUZIONE2: #REF!
Name DESC_ISTITUZIONE2: #REF!
Name DESC_ISTITUZIONE2: #REF!
Name DESC_ISTITUZIONE2: #REF!
Name DESC_ISTITUZIONE2: #REF!

Sheet SI_1
A1: 1.0
A2: EPNE
C3: ='t1'!A1 -> ENTI PUBBLICI NON ECONOMICI - anno 2024
B6: INFORMAZIONI ISTITUZIONE
B8: PARTITA IVA DELL'ENTE
B9: CODICE FISCALE DELL'ENTE
B10: TELEFONO | E10: 0161 249052
B11: FAX
B12: E-MAIL | E12: segreteria@odcecvercelli.it
B13: INDIRIZZO
C14: VIA | D14: N° Civico | E14: C.A.P. | F14: CITTA' PROV.
B15: INDIRIZZO PAGINA WEB DELL'ENTE | D15: www.odcecvercelli.it
B16: COMPONENTI COLLEGIO DEI REVISORI (O ORGANO EQUIVALENTE)
B17: PRESIDENTE:
B18: COGNOME | D18: NOME | F18: E-Mail
B19: FERRARIS | D19: PAOLA | F19: PAOLA@STUDIOFERRARIS.VERCELLI.IT
B20: COMPONENTI:
B21: COGNOME | D21: NOME | F21: E-Mail
K22: =IF(OR(LEN(B22)>0,LEN(D22)>0),IF(LEN(F22)=0,"E' NECESSARIO COMPILARE IL CAMPO E-MAIL"," ")," ")
K23: =IF(OR(LEN(B23)>0,LEN(D23)>0),IF(LEN(F23)=0,"E' NECESSARIO COMPILARE IL CAMPO E-MAIL"," ")," ")
K24: =IF(OR(LEN(B24)>0,LEN(D24)>0),IF(LEN(F24)=0,"E' NECESSARIO COMPILARE IL CAMPO E-MAIL"," ")," ")
K25: =IF(OR(LEN(B25)>0,LEN(D25)>0),IF(LEN(F25)=0,"E' NECESSARIO COMPILARE IL CAMPO E-MAIL"," ")," ")
K26: =IF(OR(LEN(B26)>0,LEN(D26)>0),IF(LEN(F26)=0,"E' NECESSARIO COMPILARE IL CAMPO E-MAIL"," ")," ")
B28: I modelli debbono essere sottoscritti dai revisori dei conti
B30: RESPONSABILE DEL PROCEDIMENTO AMMINISTRATIVO DI CUI ALLA LEGGE 7/8/90, N. 241 CAPO II°
B32: COGNOME * | D32: NOME * | E32: E-Mail * | F32: TELEFONO *
B33: BODO | D33: ELENA | E33: ELENA@STUDIOBODO.IT | F33: 0161 1895295 | K33: =IF(AND(LEN(B33)>0,LEN(D33)>0,LEN(E33)>0,LEN(F33)>0),"","COMPILARE TUTTI I DATI DEL RESPONSABILE CONTRASSEGNATI CON L'ASTERISCO")
B36: REFERENTE DA CONTATTARE
B38: COGNOME | D38: NOME | E38: E-Mail | F38: TELEFONO
B39: BOARIN | D39: PAOLA | E39: segreteria@odcecvercelli.it | F39: 0161 249052
B41: DOMANDE PRESENTI IN CIRCOLARE
H43: FALSE | I43: FALSE
A44: 1 | B44: Non compilare
A46: 2 | B46: Non compilare
A48: 3 | B48: Non compilare
A50: 4 | B50: Non compilare
A53: 5 | B53: Non compilare
G55: numero contratti
A56: 6 | B56: Indicare il numero dei contratti di collaborazioni professionali. | G56: 1 | K56: =IF(G56="","INSERIRE CAMPO OBBLIGATORIO",IF(G56=" ","INSERIRE NUMERO VALIDO",""))
G58: numero contratti
...

Sheet tFAM
A1: ='t1'!A1 -> ENTI PUBBLICI NON ECONOMICI - anno 2024 | E1: =IF(D5="",IF(D15="",IF(D25="",IF(D35="",0,1),1),1)*1,1) -> 1
D3: =IF(E1=0,"Compilare la tabella partendo dalla riga numero uno di ogni CATEGORIA se presenti.","")
A4: CATEGORIA | B4: Codice Cat | D4: Famiglia Professionale (max 200 caratteri)
A5: ELEVATE PROFESSIONALITÀ | B5: EP | C5: 1
B6: EP | C6: 2
B7: EP | C7: 3
B8: EP | C8: 4
B9: EP | C9: 5
B10: EP | C10: 6
B11: EP | C11: 7
B12: EP | C12: 8
B13: EP | C13: 9
B14: EP | C14: 10
A15: FUNZIONARI | B15: FU | C15: 1
B16: FU | C16: 2
B17: FU | C17: 3
B18: FU | C18: 4
B19: FU | C19: 5
B20: FU | C20: 6
B21: FU | C21: 7
B22: FU | C22: 8
B23: FU | C23: 9
B24: FU | C24: 10
A25: ASSISTENTI | B25: AT | C25: 1 | D25: Assistenti amministrativi- economici
B26: AT | C26: 2
B27: AT | C27: 3
B28: AT | C28: 4
B29: AT | C29: 5
B30: AT | C30: 6
B31: AT | C31: 7
B32: AT | C32: 8
B33: AT | C33: 9
B34: AT | C34: 10
A35: OPERATORI | B35: OP | C35: 1
B36: OP | C36: 2
B37: OP | C37: 3
B38: OP | C38: 4
B39: OP | C39: 5
B40: OP | C40: 6
B41: OP | C41: 7
...

Sheet t1
A1: ="ENTI PUBBLICI NON ECONOMICI"&" - anno "&$L$1 -> ENTI PUBBLICI NON ECONOMICI - anno 2024 | L1: 2024
N2: 2016
C3: N U M E R O D I D I P E N D E N T I | AA3: N U M E R O D I D I P E N D E N T I
A4: qualifica / posiz.economica/profilo | B4: Cod. | C4: ="Totale dipendenti al 31/12/"&L1-1&" (*)" -> Totale dipendenti al 31/12/2023 (*) | E4: A tempo pieno | G4: In part-time fino al 50% | I4: In part-time oltre il 50% | K4: ="Totale dipendenti al 31/12/"&L1&" (**)" -> Totale dipendenti al 31/12/2024 (**) | AA4: ="Totale dipendenti al 31/12/"&L1-1&" (*)" -> Totale dipendenti al 31/12/2023 (*) | AC4: A tempo pieno | AE4: In part-time fino al 50% | AG4: In part-time oltre il 50% | AI4: ="Totale dipendenti al 31/12/"&L1&" (**)" -> Totale dipendenti al 31/12/2024 (**)
A5: (sono evidenziate le qualifiche valorizzate per l'anno) | C5: Uomini | D5: Donne | E5: Uomini | F5: Donne | G5: Uomini | H5: Donne | I5: Uomini | J5: Donne | K5: Uomini | L5: Donne | AA5: Uomini | AB5: Donne | AC5: Uomini | AD5: Donne | AE5: Uomini | AF5: Donne | AG5: Uomini | AH5: Donne | AI5: Uomini | AJ5: Donne
A6: DIRETTORE GENERALE | B6: 0D0097 | C6: =ROUND(AA6,0) -> 0 | D6: =ROUND(AB6,0) -> 0 | E6: =ROUND(AC6,0) -> 0 | F6: =ROUND(AD6,0) -> 0 | G6: =ROUND(AE6,0) -> 0 | H6: =ROUND(AF6,0) -> 0 | I6: =ROUND(AG6,0) -> 0 | J6: =ROUND(AH6,0) -> 0 | K6: =E6+G6+I6 -> 0 | L6: =F6+H6+J6 -> 0 | M6: =K6+L6 -> 0 | N6: AP | AI6: =AC6+AE6+AG6 -> 0 | AJ6: =AD6+AF6+AH6 -> 0 | AK6: =AI6+AJ6 -> 0
A7: DIRIGENTE I FASCIA | B7: 0D0077 | C7: =ROUND(AA7,0) -> 0 | D7: =ROUND(AB7,0) -> 0 | E7: =ROUND(AC7,0) -> 0 | F7: =ROUND(AD7,0) -> 0 | G7: =ROUND(AE7,0) -> 0 | H7: =ROUND(AF7,0) -> 0 | I7: =ROUND(AG7,0) -> 0 | J7: =ROUND(AH7,0) -> 0 | K7: =E7+G7+I7 -> 0 | L7: =F7+H7+J7 -> 0 | M7: =K7+L7 -> 0 | N7: 1F | AI7: =AC7+AE7+AG7 -> 0 | AJ7: =AD7+AF7+AH7 -> 0 | AK7: =AI7+AJ7 -> 0
A8: DIRIGENTE I FASCIA A TEMPO DETERM. | B8: 0D0078 | C8: =ROUND(AA8,0) -> 0 | D8: =ROUND(AB8,0) -> 0 | E8: =ROUND(AC8,0) -> 0 | F8: =ROUND(AD8,0) -> 0 | G8: =ROUND(AE8,0) -> 0 | H8: =ROUND(AF8,0) -> 0 | I8: =ROUND(AG8,0) -> 0 | J8: =ROUND(AH8,0) -> 0 | K8: =E8+G8+I8 -> 0 | L8: =F8+H8+J8 -> 0 | M8: =K8+L8 -> 0 | N8: 1F | AI8: =AC8+AE8+AG8 -> 0 | AJ8: =AD8+AF8+AH8 -> 0 | AK8: =AI8+AJ8 -> 0
A9: DIRIGENTE II FASCIA | B9: 0D0079 | C9: =ROUND(AA9,0) -> 0 | D9: =ROUND(AB9,0) -> 0 | E9: =ROUND(AC9,0) -> 0 | F9: =ROUND(AD9,0) -> 0 | G9: =ROUND(AE9,0) -> 0 | H9: =ROUND(AF9,0) -> 0 | I9: =ROUND(AG9,0) -> 0 | J9: =ROUND(AH9,0) -> 0 | K9: =E9+G9+I9 -> 0 | L9: =F9+H9+J9 -> 0 | M9: =K9+L9 -> 0 | N9: 2F | AI9: =AC9+AE9+AG9 -> 0 | AJ9: =AD9+AF9+AH9 -> 0 | AK9: =AI9+AJ9 -> 0
A10: DIRIGENTE II FASCIA A TEMPO DETERM. | B10: 0D0080 | C10: =ROUND(AA10,0) -> 0 | D10: =ROUND(AB10,0) -> 0 | E10: =ROUND(AC10,0) -> 0 | F10: =ROUND(AD10,0) -> 0 | G10: =ROUND(AE10,0) -> 0 | H10: =ROUND(AF10,0) -> 0 | I10: =ROUND(AG10,0) -> 0 | J10: =ROUND(AH10,0) -> 0 | K10: =E10+G10+I10 -> 0 | L10: =F10+H10+J10 -> 0 | M10: =K10+L10 -> 0 | N10: 2F | AI10: =AC10+AE10+AG10 -> 0 | AJ10: =AD10+AF10+AH10 -> 0 | AK10: =AI10+AJ10 -> 0
A11: MEDICO II FASCIA T.P. | B11: 0D0584 | C11: =ROUND(AA11,0) -> 0 | D11: =ROUND(AB11,0) -> 0 | E11: =ROUND(AC11,0) -> 0 | F11: =ROUND(AD11,0) -> 0 | G11: =ROUND(AE11,0) -> 0 | H11: =ROUND(AF11,0) -> 0 | I11: =ROUND(AG11,0) -> 0 | J11: =ROUND(AH11,0) -> 0 | K11: =E11+G11+I11 -> 0 | L11: =F11+H11+J11 -> 0 | M11: =K11+L11 -> 0 | N11: ME | AI11: =AC11+AE11+AG11 -> 0 | AJ11: =AD11+AF11+AH11 -> 0 | AK11: =AI11+AJ11 -> 0
A12: MEDICO I FASCIA T.P. | B12: 0D0585 | C12: =ROUND(AA12,0) -> 0 | D12: =ROUND(AB12,0) -> 0 | E12: =ROUND(AC12,0) -> 0 | F12: =ROUND(AD12,0) -> 0 | G12: =ROUND(AE12,0) -> 0 | H12: =ROUND(AF12,0) -> 0 | I12: =ROUND(AG12,0) -> 0 | J12: =ROUND(AH12,0) -> 0 | K12: =E12+G12+I12 -> 0 | L12: =F12+H12+J12 -> 0 | M12: =K12+L12 -> 0 | N12: ME | AI12: =AC12+AE12+AG12 -> 0 | AJ12: =AD12+AF12+AH12 -> 0 | AK12: =AI12+AJ12 -> 0
A13: MEDICO II FASCIA T.D. | B13: 0D0586 | C13: =ROUND(AA13,0) -> 0 | D13: =ROUND(AB13,0) -> 0 | E13: =ROUND(AC13,0) -> 0 | F13: =ROUND(AD13,0) -> 0 | G13: =ROUND(AE13,0) -> 0 | H13: =ROUND(AF13,0) -> 0 | I13: =ROUND(AG13,0) -> 0 | J13: =ROUND(AH13,0) -> 0 | K13: =E13+G13+I13 -> 0 | L13: =F13+H13+J13 -> 0 | M13: =K13+L13 -> 0 | N13: ME | AI13: =AC13+AE13+AG13 -> 0 | AJ13: =AD13+AF13+AH13 -> 0 | AK13: =AI13+AJ13 -> 0
A14: MEDICO I FASCIA T.D. | B14: 0D0496 | C14: =ROUND(AA14,0) -> 0 | D14: =ROUND(AB14,0) -> 0 | E14: =ROUND(AC14,0) -> 0 | F14: =ROUND(AD14,0) -> 0 | G14: =ROUND(AE14,0) -> 0 | H14: =ROUND(AF14,0) -> 0 | I14: =ROUND(AG14,0) -> 0 | J14: =ROUND(AH14,0) -> 0 | K14: =E14+G14+I14 -> 0 | L14: =F14+H14+J14 -> 0 | M14: =K14+L14 -> 0 | N14: ME | AI14: =AC14+AE14+AG14 -> 0 | AJ14: =AD14+AF14+AH14 -> 0 | AK14: =AI14+AJ14 -> 0
A15: PROFESSIONISTI II LIVELLO | B15: 0D0PR2 | C15: =ROUND(AA15,0) -> 0 | D15: =ROUND(AB15,0) -> 0 | E15: =ROUND(AC15,0) -> 0 | F15: =ROUND(AD15,0) -> 0 | G15: =ROUND(AE15,0) -> 0 | H15: =ROUND(AF15,0) -> 0 | I15: =ROUND(AG15,0) -> 0 | J15: =ROUND(AH15,0) -> 0 | K15: =E15+G15+I15 -> 0 | L15: =F15+H15+J15 -> 0 | M15: =K15+L15 -> 0 | N15: PR | AI15: =AC15+AE15+AG15 -> 0 | AJ15: =AD15+AF15+AH15 -> 0 | AK15: =AI15+AJ15 -> 0
A16: PROFESSIONISTI I LIVELLO | B16: 0D0PR1 | C16: =ROUND(AA16,0) -> 0 | D16: =ROUND(AB16,0) -> 0 | E16: =ROUND(AC16,0) -> 0 | F16: =ROUND(AD16,0) -> 0 | G16: =ROUND(AE16,0) -> 0 | H16: =ROUND(AF16,0) -> 0 | I16: =ROUND(AG16,0) -> 0 | J16: =ROUND(AH16,0) -> 0 | K16: =E16+G16+I16 -> 0 | L16: =F16+H16+J16 -> 0 | M16: =K16+L16 -> 0 | N16: PR | AI16: =AC16+AE16+AG16 -> 0 | AJ16: =AD16+AF16+AH16 -> 0 | AK16: =AI16+AJ16 -> 0
A17: ELEVATE PROFESSIONALITA' | B17: 0EP981 | C17: =ROUND(AA17,0) -> 0 | D17: =ROUND(AB17,0) -> 0 | E17: =ROUND(AC17,0) -> 0 | F17: =ROUND(AD17,0) -> 0 | G17: =ROUND(AE17,0) -> 0 | H17: =ROUND(AF17,0) -> 0 | I17: =ROUND(AG17,0) -> 0 | J17: =ROUND(AH17,0) -> 0 | K17: =E17+G17+I17 -> 0 | L17: =F17+H17+J17 -> 0 | M17: =K17+L17 -> 0 | N17: ND | AI17: =AC17+AE17+AG17 -> 0 | AJ17: =AD17+AF17+AH17 -> 0 | AK17: =AI17+AJ17 -> 0
A18: FUNZIONARI | B18: 0FZ000 | C18: =ROUND(AA18,0) -> 0 | D18: =ROUND(AB18,0) -> 0 | E18: =ROUND(AC18,0) -> 0 | F18: =ROUND(AD18,0) -> 0 | G18: =ROUND(AE18,0) -> 0 | H18: =ROUND(AF18,0) -> 0 | I18: =ROUND(AG18,0) -> 0 | J18: =ROUND(AH18,0) -> 0 | K18: =E18+G18+I18 -> 0 | L18: =F18+H18+J18 -> 0 | M18: =K18+L18 -> 0 | N18: ND | AI18: =AC18+AE18+AG18 -> 0 | AJ18: =AD18+AF18+AH18 -> 0 | AK18: =AI18+AJ18 -> 0
A19: ASSISTENTI | B19: 0AS000 | C19: =ROUND(AA19,0) -> 0 | D19: =ROUND(AB19,0) -> 1 | E19: =ROUND(AC19,0) -> 0 | F19: =ROUND(AD19,0) -> 0 | G19: =ROUND(AE19,0) -> 0 | H19: =ROUND(AF19,0) -> 1 | I19: =ROUND(AG19,0) -> 0 | J19: =ROUND(AH19,0) -> 0 | K19: =E19+G19+I19 -> 0 | L19: =F19+H19+J19 -> 1 | M19: =K19+L19 -> 1 | N19: ND | AB19: 1 | AF19: 1 | AI19: =AC19+AE19+AG19 -> 0 | AJ19: =AD19+AF19+AH19 -> 1 | AK19: =AI19+AJ19 -> 1
A20: OPERATORI | B20: 0OP000 | C20: =ROUND(AA20,0) -> 0 | D20: =ROUND(AB20,0) -> 0 | E20: =ROUND(AC20,0) -> 0 | F20: =ROUND(AD20,0) -> 0 | G20: =ROUND(AE20,0) -> 0 | H20: =ROUND(AF20,0) -> 0 | I20: =ROUND(AG20,0) -> 0 | J20: =ROUND(AH20,0) -> 0 | K20: =E20+G20+I20 -> 0 | L20: =F20+H20+J20 -> 0 | M20: =K20+L20 -> 0 | N20: ND | AI20: =AC20+AE20+AG20 -> 0 | AJ20: =AD20+AF20+AH20 -> 0 | AK20: =AI20+AJ20 -> 0
A21: CONTRATTISTI | B21: 000061 | C21: =ROUND(AA21,0) -> 0 | D21: =ROUND(AB21,0) -> 0 | E21: =ROUND(AC21,0) -> 0 | F21: =ROUND(AD21,0) -> 0 | G21: =ROUND(AE21,0) -> 0 | H21: =ROUND(AF21,0) -> 0 | I21: =ROUND(AG21,0) -> 0 | J21: =ROUND(AH21,0) -> 0 | K21: =E21+G21+I21 -> 0 | L21: =F21+H21+J21 -> 0 | M21: =K21+L21 -> 0 | N21: ND | AI21: =AC21+AE21+AG21 -> 0 | AJ21: =AD21+AF21+AH21 -> 0 | AK21: =AI21+AJ21 -> 0
A22: TOTALE | C22: =SUM(C6:C21) -> 0 | D22: =SUM(D6:D21) -> 1 | E22: =SUM(E6:E21) -> 0 | F22: =SUM(F6:F21) -> 0 | G22: =SUM(G6:G21) -> 0 | H22: =SUM(H6:H21) -> 1 | I22: =SUM(I6:I21) -> 0 | J22: =SUM(J6:J21) -> 0 | ... L22: =SUM(L6:L21) -> 1 | AA22: =SUM(AA6:AA21) -> 0 | AB22: =SUM(AB6:AB21) -> 1 | AC22: =SUM(AC6:AC21) -> 0 | AD22: =SUM(AD6:AD21) -> 0 | AE22: =SUM(AE6:AE21) -> 0 | AF22: =SUM(AF6:AF21) -> 1 | AG22: =SUM(AG6:AG21) -> 0 | AH22: =SUM(AH6:AH21) -> 0 | ... AJ22: =SUM(AJ6:AJ21) -> 1
A23: (a) personale a tempo indeterminato al quale viene applicato un contratto di lavoro di tipo privatistico (es.:tipografico,chimico,edile,metalmeccanico,portierato, ecc.)
A24: ="(*) inserire i dati comunicati nella tab.1 (colonna presenti al 31/12/"&L1-1&") della rilevazione dell'anno precedente" -> (*) inserire i dati comunicati nella tab.1 (colonna presenti al 31/12/2023) della rilevazione dell'anno precedente
A25: (**) dato pari alla somma del personale a tempo pieno + in part-time fino al 50% + in part-time oltre il 50%

Sheet 1E
A1: ='t1'!A1 -> ENTI PUBBLICI NON ECONOMICI - anno 2024
A4: qualifica / posiz.economica / profilo | B4: cod. | C4: N U M E R O DI D I P E N D E N T I | AA4: N U M E R O DI D I P E N D E N T I | AT4: SQUADRATURA 10 | AW4: INCONGRUENZA 17
C5: con trattamento economico iniziale | E5: con 1 differenziale stipendiale | G5: con 2 differenziale stipendiale | I5: con 3 differenziale stipendiale | K5: con 4 differenziale stipendiale | M5: con 5 differenziale stipendiale | S5: TOTALE (Presenti al 31/12/2021) | AA5: senza differenziali stipendiali | AC5: con 1 differenziale stipendiale | AE5: con 2 differenziale stipendiale | AG5: con 3 differenziale stipendiale | AI5: con 4 differenziale stipendiale | AK5: con 5 differenziale stipendiale | AM5: con 6 differenziali stipendiali | AO5: con 7 differenziali stipendiali | AQ5: ="TOTALE dipendenti al 31/12/"&'t1'!L1&" " -> TOTALE dipendenti al 31/12/2024 | AT5: Controllo con T1 | AW5: Controllo con T12 | AX5: Controllo con T4
C6: Uomini | D6: Donne | E6: Uomini | F6: Donne | G6: Uomini | H6: Donne | I6: Uomini | J6: Donne | K6: Uomini | L6: Donne | M6: Uomini | N6: Donne | S6: Uomini | T6: Donne | AA6: Uomini | AB6: Donne | AC6: Uomini | AD6: Donne | AE6: Uomini | AF6: Donne | AG6: Uomini | AH6: Donne | AI6: Uomini | AJ6: Donne | AK6: Uomini | AL6: Donne | AM6: Uomini | AN6: Donne | AQ6: Uomini | AR6: Donne | AT6: Uomini | AU6: Donne | AW6: Totale
A7: ='t1'!A18 -> FUNZIONARI | B7: ='t1'!B18 -> 0FZ000 | C7: =ROUND(AA7,0) -> 0 | D7: =ROUND(AB7,0) -> 0 | E7: =ROUND(AC7,0) -> 0 | F7: =ROUND(AD7,0) -> 0 | G7: =ROUND(AE7,0) -> 0 | H7: =ROUND(AF7,0) -> 0 | I7: =ROUND(AG7,0) -> 0 | J7: =ROUND(AH7,0) -> 0 | ... N7: =ROUND(AL7,0) -> 0 | S7: =C7+E7+G7+I7+K7+M7+O7+Q7 -> 0 | T7: =D7+F7+H7+J7+L7+N7+P7+R7 -> 0 | AQ7: =AA7+AC7+AE7+AG7+AI7+AK7+AM7+AO7 -> 0 | AR7: =AB7+AD7+AF7+AH7+AJ7+AL7+AN7+AP7 -> 0 | AT7: =IF(AQ7='t1'!AI18,"OK","Errore") -> OK | AU7: =IF(AR7='t1'!AJ18,"OK","Errore") -> OK | AW7: =IF(SUM(AC7:AN7)>0,(IF('t12'!G18>0,"OK","Manca Valore in T12")),IF(AND(SUM(AC7:AN7)>=0,('t12'!G18)>=0),IF('t12'!G18>0,"Mancano differenziali","OK"))) -> OK | AX7: =IF(SUM(AC7:AN7)>='t4'!D7,"OK","Controllare voci in T4") -> OK
A8: ='t1'!A19 -> ASSISTENTI | B8: ='t1'!B19 -> 0AS000 | C8: =ROUND(AA8,0) -> 0 | D8: =ROUND(AB8,0) -> 1 | E8: =ROUND(AC8,0) -> 0 | F8: =ROUND(AD8,0) -> 0 | G8: =ROUND(AE8,0) -> 0 | H8: =ROUND(AF8,0) -> 0 | I8: =ROUND(AG8,0) -> 0 | J8: =ROUND(AH8,0) -> 0 | ... N8: =ROUND(AL8,0) -> 0 | S8: =C8+E8+G8+I8+K8+M8+O8+Q8 -> 0 | T8: =D8+F8+H8+J8+L8+N8+P8+R8 -> 1 | AB8: 1 | AQ8: =AA8+AC8+AE8+AG8+AI8+AK8+AM8+AO8 -> 0 | AR8: =AB8+AD8+AF8+AH8+AJ8+AL8+AN8+AP8 -> 1 | AT8: =IF(AQ8='t1'!AI19,"OK","Errore") -> OK | AU8: =IF(AR8='t1'!AJ19,"OK","Errore") -> OK | AW8: =IF(SUM(AC8:AN8)>0,(IF('t12'!G19>0,"OK","Manca Valore in T12")),IF(AND(SUM(AC8:AN8)>=0,('t12'!G19)>=0),IF('t12'!G19>0,"Mancano differenziali","OK"))) -> OK | AX8: =IF(SUM(AC8:AN8)>='t4'!D8,"OK","Controllare voci in T4") -> OK
A9: ='t1'!A20 -> OPERATORI | B9: ='t1'!B20 -> 0OP000 | C9: =ROUND(AA9,0) -> 0 | D9: =ROUND(AB9,0) -> 0 | E9: =ROUND(AC9,0) -> 0 | F9: =ROUND(AD9,0) -> 0 | G9: =ROUND(AE9,0) -> 0 | H9: =ROUND(AF9,0) -> 0 | I9: =ROUND(AG9,0) -> 0 | J9: =ROUND(AH9,0) -> 0 | ... N9: =ROUND(AL9,0) -> 0 | S9: =C9+E9+G9+I9+K9+M9+O9+Q9 -> 0 | T9: =D9+F9+H9+J9+L9+N9+P9+R9 -> 0 | AQ9: =AA9+AC9+AE9+AG9+AI9+AK9+AM9+AO9 -> 0 | AR9: =AB9+AD9+AF9+AH9+AJ9+AL9+AN9+AP9 -> 0 | AT9: =IF(AQ9='t1'!AI20,"OK","Errore") -> OK | AU9: =IF(AR9='t1'!AJ20,"OK","Errore") -> OK | AW9: =IF(SUM(AC9:AN9)>0,(IF('t12'!G20>0,"OK","Manca Valore in T12")),IF(AND(SUM(AC9:AN9)>=0,('t12'!G20)>=0),IF('t12'!G20>0,"Mancano differenziali","OK"))) -> OK | AX9: =IF(SUM(AC9:AN9)>='t4'!D9,"OK","Controllare voci in T4") -> OK
A10: TOTALE | C10: =SUM(C7:C9) -> 0 | D10: =SUM(D7:D9) -> 1 | E10: =SUM(E7:E9) -> 0 | F10: =SUM(F7:F9) -> 0 | G10: =SUM(G7:G9) -> 0 | H10: =SUM(H7:H9) -> 0 | I10: =SUM(I7:I9) -> 0 | J10: =SUM(J7:J9) -> 0 | ... T10: =SUM(T7:T9) -> 1 | AA10: =SUM(AA7:AA9) -> 0 | AB10: =SUM(AB7:AB9) -> 1 | AC10: =SUM(AC7:AC9) -> 0 | AD10: =SUM(AD7:AD9) -> 0 | AE10: =SUM(AE7:AE9) -> 0 | AF10: =SUM(AF7:AF9) -> 0 | AG10: =SUM(AG7:AG9) -> 0 | AH10: =SUM(AH7:AH9) -> 0 | ... AN10: =SUM(AN7:AN9) -> 0 | AO10: =SUM(AO9:AO9) -> 0 | AP10: =SUM(AP9:AP9) -> 0 | AQ10: =SUM(AQ7:AQ9) -> 0 | AR10: =SUM(AR7:AR9) -> 1 | AT10: =SUM('t1'!AI18:AI20) -> 0 | AU10: =SUM('t1'!AJ18:AJ20) -> 1 | AW10: =IF(COUNTIF(AW7:AW9,"OK")=3,"OK","Errore") -> OK | AX10: =IF(COUNTIF(AX7:AX9,"OK")=3,"OK","Errore") -> OK

Sheet t2
A1: ='t1'!A1 -> ENTI PUBBLICI NON ECONOMICI - anno 2024 | AK1: Si
AK2: No
C3: N U M E R O D I D I P E N D E N T I | Y3: N U M E R O D I D I P E N D E N T I | AK3: 2
A4: CATEGORIA | B4: Cod. | C4: A tempo determinato (*) | E4: Formazione lavoro (*) | G4: Contratti di somministrazione (ex Interinale) (*) | I4: LSU/LPU/ASU(*) | AA4: A tempo determinato (*) | AC4: Formazione lavoro (*) | AE4: Contratti di somministrazione (ex Interinale) (*) | AG4: LSU/LPU/ASU(*)
C5: Uomini | D5: Donne | E5: Uomini | F5: Donne | G5: Uomini | H5: Donne | I5: Uomini | J5: Donne | AA5: Uomini | AB5: Donne | AC5: Uomini | AD5: Donne | AE5: Uomini | AF5: Donne | AG5: Uomini | AH5: Donne
A6: MEDICI | B6: MD | C6: =ROUND(AA6,2) -> 0 | D6: =ROUND(AB6,2) -> 0 | E6: =ROUND(AC6,2) -> 0 | F6: =ROUND(AD6,2) -> 0 | G6: =ROUND(AE6,2) -> 0 | H6: =ROUND(AF6,2) -> 0 | I6: =ROUND(AG6,2) -> 0 | J6: =ROUND(AH6,2) -> 0
A7: PROFESSIONISTI | B7: AP | C7: =ROUND(AA7,2) -> 0 | D7: =ROUND(AB7,2) -> 0 | E7: =ROUND(AC7,2) -> 0 | F7: =ROUND(AD7,2) -> 0 | G7: =ROUND(AE7,2) -> 0 | H7: =ROUND(AF7,2) -> 0 | I7: =ROUND(AG7,2) -> 0 | J7: =ROUND(AH7,2) -> 0
A8: PERSONALE ELEVATE PROFESSIONALITA | B8: EP | C8: =ROUND(AA8,2) -> 0 | D8: =ROUND(AB8,2) -> 0 | E8: =ROUND(AC8,2) -> 0 | F8: =ROUND(AD8,2) -> 0 | G8: =ROUND(AE8,2) -> 0 | H8: =ROUND(AF8,2) -> 0 | I8: =ROUND(AG8,2) -> 0 | J8: =ROUND(AH8,2) -> 0
A9: FUNZIONARI | B9: FU | C9: =ROUND(AA9,2) -> 0 | D9: =ROUND(AB9,2) -> 0 | E9: =ROUND(AC9,2) -> 0 | F9: =ROUND(AD9,2) -> 0 | G9: =ROUND(AE9,2) -> 0 | H9: =ROUND(AF9,2) -> 0 | I9: =ROUND(AG9,2) -> 0 | J9: =ROUND(AH9,2) -> 0
A10: ASSISTENTI | B10: AT | C10: =ROUND(AA10,2) -> 0 | D10: =ROUND(AB10,2) -> 0 | E10: =ROUND(AC10,2) -> 0 | F10: =ROUND(AD10,2) -> 0 | G10: =ROUND(AE10,2) -> 0 | H10: =ROUND(AF10,2) -> 0 | I10: =ROUND(AG10,2) -> 0 | J10: =ROUND(AH10,2) -> 0
A11: OPERATORI | B11: OP | C11: =ROUND(AA11,2) -> 0 | D11: =ROUND(AB11,2) -> 0 | E11: =ROUND(AC11,2) -> 0 | F11: =ROUND(AD11,2) -> 0 | G11: =ROUND(AE11,2) -> 0 | H11: =ROUND(AF11,2) -> 0 | I11: =ROUND(AG11,2) -> 0 | J11: =ROUND(AH11,2) -> 0
A12: PERSONALE CONTRATTISTA | B12: PC | C12: =ROUND(AA12,2) -> 0 | D12: =ROUND(AB12,2) -> 0 | E12: =ROUND(AC12,2) -> 0 | F12: =ROUND(AD12,2) -> 0 | G12: =ROUND(AE12,2) -> 0 | H12: =ROUND(AF12,2) -> 0 | I12: =ROUND(AG12,2) -> 0 | J12: =ROUND(AH12,2) -> 0
A13: TOTALE | C13: =SUM(C6:C12) -> 0 | D13: =SUM(D6:D12) -> 0 | E13: =SUM(E6:E12) -> 0 | F13: =SUM(F6:F12) -> 0 | G13: =SUM(G6:G12) -> 0 | H13: =SUM(H6:H12) -> 0 | I13: =SUM(I6:I12) -> 0 | J13: =SUM(J6:J12) -> 0 | AA13: =SUM(AA6:AA12) -> 0 | AB13: =SUM(AB6:AB12) -> 0 | AC13: =SUM(AC6:AC12) -> 0 | AD13: =SUM(AD6:AD12) -> 0 | AE13: =SUM(AE6:AE12) -> 0 | AF13: =SUM(AF6:AF12) -> 0 | AG13: =SUM(AG6:AG12) -> 0 | AH13: =SUM(AH6:AH12) -> 0
A16: Il personale a Tempo determinato è cessato il 31/12?
A21: CATEGORIA | B21: Cod. | C21: Smart working (**) Personale indicato in T1 | E21: Telelavoro (**) Personale indicato in T1 | G21: Coworking (**) Personale indicato in T1 | I21: Personale soggetto a turnazione (**) Personale indicato in T1 | K21: Personale soggetto a reperibilità (**) Personale indicato in T1 | AA21: Lavoro Agile (**) | AC21: Telelavoro (**) | AE21: Coworking (**) | AG21: Personale soggetto a turnazione (**) | AI21: Personale soggetto a reperibilità (**)
C22: Uomini | D22: Donne | E22: Uomini | F22: Donne | G22: Uomini | H22: Donne | I22: Uomini | J22: Donne | K22: Uomini | L22: Donne | AA22: Uomini | AB22: Donne | AC22: Uomini | AD22: Donne | AE22: Uomini | AF22: Donne | AG22: Uomini | AH22: Donne | AI22: Uomini | AJ22: Donne
A23: MEDICI | B23: MD | C23: =ROUND(AA23,0) -> 0 | D23: =ROUND(AB23,0) -> 0 | E23: =ROUND(AC23,0) -> 0 | F23: =ROUND(AD23,0) -> 0 | G23: =ROUND(AE23,0) -> 0 | H23: =ROUND(AF23,0) -> 0 | I23: =ROUND(AG23,0) -> 0 | J23: =ROUND(AH23,0) -> 0 | ... L23: =ROUND(AJ23,0) -> 0
A24: PROFESSIONISTI | B24: AP | C24: =ROUND(AA24,0) -> 0 | D24: =ROUND(AB24,0) -> 0 | E24: =ROUND(AC24,0) -> 0 | F24: =ROUND(AD24,0) -> 0 | G24: =ROUND(AE24,0) -> 0 | H24: =ROUND(AF24,0) -> 0 | I24: =ROUND(AG24,0) -> 0 | J24: =ROUND(AH24,0) -> 0 | ... L24: =ROUND(AJ24,0) -> 0
A25: PERSONALE ELEVATE PROFESSIONALITA | B25: EP | C25: =ROUND(AA25,0) -> 0 | D25: =ROUND(AB25,0) -> 0 | E25: =ROUND(AC25,0) -> 0 | F25: =ROUND(AD25,0) -> 0 | G25: =ROUND(AE25,0) -> 0 | H25: =ROUND(AF25,0) -> 0 | I25: =ROUND(AG25,0) -> 0 | J25: =ROUND(AH25,0) -> 0 | ... L25: =ROUND(AJ25,0) -> 0
A26: FUNZIONARI | B26: FU | C26: =ROUND(AA26,0) -> 0 | D26: =ROUND(AB26,0) -> 0 | E26: =ROUND(AC26,0) -> 0 | F26: =ROUND(AD26,0) -> 0 | G26: =ROUND(AE26,0) -> 0 | H26: =ROUND(AF26,0) -> 0 | I26: =ROUND(AG26,0) -> 0 | J26: =ROUND(AH26,0) -> 0 | ... L26: =ROUND(AJ26,0) -> 0
A27: ASSISTENTI | B27: AT | C27: =ROUND(AA27,0) -> 0 | D27: =ROUND(AB27,0) -> 0 | E27: =ROUND(AC27,0) -> 0 | F27: =ROUND(AD27,0) -> 0 | G27: =ROUND(AE27,0) -> 0 | H27: =ROUND(AF27,0) -> 0 | I27: =ROUND(AG27,0) -> 0 | J27: =ROUND(AH27,0) -> 0 | ... L27: =ROUND(AJ27,0) -> 0
A28: OPERATORI | B28: OP | C28: =ROUND(AA28,0) -> 0 | D28: =ROUND(AB28,0) -> 0 | E28: =ROUND(AC28,0) -> 0 | F28: =ROUND(AD28,0) -> 0 | G28: =ROUND(AE28,0) -> 0 | H28: =ROUND(AF28,0) -> 0 | I28: =ROUND(AG28,0) -> 0 | J28: =ROUND(AH28,0) -> 0 | ... L28: =ROUND(AJ28,0) -> 0
A29: PERSONALE CONTRATTISTA | B29: PC | C29: =ROUND(AA29,0) -> 0 | D29: =ROUND(AB29,0) -> 0 | E29: =ROUND(AC29,0) -> 0 | F29: =ROUND(AD29,0) -> 0 | G29: =ROUND(AE29,0) -> 0 | H29: =ROUND(AF29,0) -> 0 | I29: =ROUND(AG29,0) -> 0 | J29: =ROUND(AH29,0) -> 0 | ... L29: =ROUND(AJ29,0) -> 0
A30: TOTALE | C30: =SUM(C23:C29) -> 0 | D30: =SUM(D23:D29) -> 0 | E30: =SUM(E23:E29) -> 0 | F30: =SUM(F23:F29) -> 0 | G30: =SUM(G23:G29) -> 0 | H30: =SUM(H23:H29) -> 0 | I30: =SUM(I23:I29) -> 0 | J30: =SUM(J23:J29) -> 0 | ... L30: =SUM(L23:L29) -> 0 | AA30: =SUM(AA23:AA29) -> 0 | AB30: =SUM(AB23:AB29) -> 0 | AC30: =SUM(AC23:AC29) -> 0 | AD30: =SUM(AD23:AD29) -> 0 | AE30: =SUM(AE23:AE29) -> 0 | AF30: =SUM(AF23:AF29) -> 0 | AG30: =SUM(AG23:AG29) -> 0 | AH30: =SUM(AH23:AH29) -> 0 | ... AJ30: =SUM(AJ23:AJ29) -> 0
A32: (*) dati su base annua
A33: (**) presenti al 31 dicembre anno corrente

Sheet t2A
A1: =SI_1!A2 -> EPNE | B1: ='t1'!A1 -> ENTI PUBBLICI NON ECONOMICI - anno 2024
B8: Anzianità di servizio maturata al 31/12, anche in modo non continuativo, nell'attuale o in altre amministrazioni | D8: Fino a 1 anno | F8: Da 1 a 2 anni | H8: Da 2 a 3 anni | J8: Oltre i 3 anni
B9: Uomo / Donna | D9: U | E9: D | F9: U | G9: D | H9: U | I9: D | J9: U | K9: D
A10: XX | B10: Personale con contratti di collaborazioni professionali
A12: ='t2'!B6 -> MD | B12: Tempo determinato | C12: ='t2'!A6 -> MEDICI
A13: ='t2'!B7 -> AP | C13: ='t2'!A7 -> PROFESSIONISTI
A14: ='t2'!B8 -> EP | C14: ='t2'!A8 -> PERSONALE ELEVATE PROFESSIONALITA
A15: ='t2'!B9 -> FU | C15: ='t2'!A9 -> FUNZIONARI
A16: ='t2'!B10 -> AT | C16: ='t2'!A10 -> ASSISTENTI
A17: ='t2'!B11 -> OP | C17: ='t2'!A11 -> OPERATORI
A18: ='t2'!B12 -> PC | C18: ='t2'!A12 -> PERSONALE CONTRATTISTA
C19: TOTALE Tempo determinato | D19: =SUM(D12:D18) -> 0 | E19: =SUM(E12:E18) -> 0 | F19: =SUM(F12:F18) -> 0 | G19: =SUM(G12:G18) -> 0 | H19: =SUM(H12:H18) -> 0 | I19: =SUM(I12:I18) -> 0 | J19: =SUM(J12:J18) -> 0 | K19: =SUM(K12:K18) -> 0 | T19: =SUM(D19:S19,D10:S10) -> 0

Sheet t3
A1: ='t1'!A1 -> ENTI PUBBLICI NON ECONOMICI - anno 2024
C3: PERSONALE DELL'AMMINISTRAZIONE (* ) | K3: PERSONALE ESTERNO ( ** )
A4: qualifica/posizione economica/profilo | B4: Cod. | C4: COMANDATI / DISTACCATI | E4: FUORI RUOLO | G4: CONVENZIONI | I4: PERSONALE IN ASPETTATIVA | K4: COMANDATI / DISTACCATI | M4: FUORI RUOLO | O4: CONVENZIONI
A5: (sono evidenziate quelle valorizzate nella T1) | C5: Uomini | D5: Donne | E5: Uomini | F5: Donne | G5: Uomini | H5: Donne | I5: Uomini | J5: Donne | K5: Uomini | L5: Donne | M5: Uomini | N5: Donne | O5: Uomini | P5: Donne
A6: ='t1'!A6 -> DIRETTORE GENERALE | B6: ='t1'!B6 -> 0D0097 | Q6: ='t1'!M6 -> 0
A7: ='t1'!A7 -> DIRIGENTE I FASCIA | B7: ='t1'!B7 -> 0D0077 | Q7: ='t1'!M7 -> 0
A8: ='t1'!A8 -> DIRIGENTE I FASCIA A TEMPO DETERM. | B8: ='t1'!B8 -> 0D0078 | Q8: ='t1'!M8 -> 0
A9: ='t1'!A9 -> DIRIGENTE II FASCIA | B9: ='t1'!B9 -> 0D0079 | Q9: ='t1'!M9 -> 0
A10: ='t1'!A10 -> DIRIGENTE II FASCIA A TEMPO DETERM. | B10: ='t1'!B10 -> 0D0080 | Q10: ='t1'!M10 -> 0
A11: ='t1'!A11 -> MEDICO II FASCIA T.P. | B11: ='t1'!B11 -> 0D0584 | Q11: ='t1'!M11 -> 0
A12: ='t1'!A12 -> MEDICO I FASCIA T.P. | B12: ='t1'!B12 -> 0D0585 | Q12: ='t1'!M12 -> 0
A13: ='t1'!A13 -> MEDICO II FASCIA T.D. | B13: ='t1'!B13 -> 0D0586 | Q13: ='t1'!M13 -> 0
A14: ='t1'!A14 -> MEDICO I FASCIA T.D. | B14: ='t1'!B14 -> 0D0496 | Q14: ='t1'!M14 -> 0
A15: ='t1'!A15 -> PROFESSIONISTI II LIVELLO | B15: ='t1'!B15 -> 0D0PR2 | Q15: ='t1'!M15 -> 0
A16: ='t1'!A16 -> PROFESSIONISTI I LIVELLO | B16: ='t1'!B16 -> 0D0PR1 | Q16: ='t1'!M16 -> 0
A17: ='t1'!A17 -> ELEVATE PROFESSIONALITA' | B17: ='t1'!B17 -> 0EP981 | Q17: ='t1'!M17 -> 0
... A21: ='t1'!A21 -> CONTRATTISTI | B21: ='t1'!B21 -> 000061 | Q21: ='t1'!M21 -> 0
A22: TOTALE | C22: =SUM(C6:C21) -> 0 | D22: =SUM(D6:D21) -> 0 | E22: =SUM(E6:E21) -> 0 | F22: =SUM(F6:F21) -> 0 | G22: =SUM(G6:G21) -> 0 | H22: =SUM(H6:H21) -> 0 | I22: =SUM(I6:I21) -> 0 | J22: =SUM(J6:J21) -> 0 | ... P22: =SUM(P6:P21) -> 0
A24: ='t1'!$A$23 -> (a) personale a tempo indeterminato al quale viene applicato un contratto di lavoro di tipo privatistico (es.:tipografico,chimico,edile,metalmeccanico,portierato, ecc.)
A26: (*) Personale comandato e fuori ruolo verso altre Amministrazioni
A27: (**) Personale comandato e fuori ruolo da altre Amministrazioni

Sheet t4
A1: ='t1'!A1 -> ENTI PUBBLICI NON ECONOMICI - anno 2024
A4: N. di dipendenti a cui nel corso dell'anno è stato attribuito un nuovo differenziale stipendiale:
A6: ='t2'!A8 -> PERSONALE ELEVATE PROFESSIONALITA | B6: ='t2'!B8 -> EP | C6: n.
A7: ='t2'!A9 -> FUNZIONARI | B7: ='t2'!B9 -> FU | C7: n.
A8: ='t2'!A10 -> ASSISTENTI | B8: ='t2'!B10 -> AT | C8: n.
A9: ='t2'!A11 -> OPERATORI | B9: ='t2'!B11 -> OP | C9: n.
C12: N U M E R O D I D I P E N D E N T I
C13: ENTRATI in: qualifica/posizione economica/profilo
A14: USCITI da: qualifica/posizione economica/profilo | B14: Codice | C14: =B15 -> 0D0097 | D14: =B16 -> 0D0077 | E14: =B17 -> 0D0078 | F14: =B18 -> 0D0079 | G14: =B19 -> 0D0080 | H14: =B20 -> 0D0584 | I14: =B21 -> 0D0585 | J14: =B22 -> 0D0586 | K14: =B23 -> 0D0496 | L14: =B24 -> 0D0PR2 | M14: =B25 -> 0D0PR1 | N14: =B26 -> 0EP981 | O14: =B27 -> 0FZ000 | P14: =B28 -> 0AS000 | Q14: =B29 -> 0OP000 | R14: =B30 -> 000061 | S14: TOTALE USCITI
A15: ='t1'!A6 -> DIRETTORE GENERALE | B15: ='t1'!B6 -> 0D0097 | S15: =SUM(C15:R15) -> 0
A16: ='t1'!A7 -> DIRIGENTE I FASCIA | B16: ='t1'!B7 -> 0D0077 | S16: =SUM(C16:R16) -> 0
A17: ='t1'!A8 -> DIRIGENTE I FASCIA A TEMPO DETERM. | B17: ='t1'!B8 -> 0D0078 | S17: =SUM(C17:R17) -> 0
A18: ='t1'!A9 -> DIRIGENTE II FASCIA | B18: ='t1'!B9 -> 0D0079 | S18: =SUM(C18:R18) -> 0
A19: ='t1'!A10 -> DIRIGENTE II FASCIA A TEMPO DETERM. | B19: ='t1'!B10 -> 0D0080 | S19: =SUM(C19:R19) -> 0
A20: ='t1'!A11 -> MEDICO II FASCIA T.P. | B20: ='t1'!B11 -> 0D0584 | S20: =SUM(C20:R20) -> 0
A21: ='t1'!A12 -> MEDICO I FASCIA T.P. | B21: ='t1'!B12 -> 0D0585 | S21: =SUM(C21:R21) -> 0
A22: ='t1'!A13 -> MEDICO II FASCIA T.D. | B22: ='t1'!B13 -> 0D0586 | S22: =SUM(C22:R22) -> 0
A23: ='t1'!A14 -> MEDICO I FASCIA T.D. | B23: ='t1'!B14 -> 0D0496 | S23: =SUM(C23:R23) -> 0
A24: ='t1'!A15 -> PROFESSIONISTI II LIVELLO | B24: ='t1'!B15 -> 0D0PR2 | S24: =SUM(C24:R24) -> 0
A25: ='t1'!A16 -> PROFESSIONISTI I LIVELLO | B25: ='t1'!B16 -> 0D0PR1 | S25: =SUM(C25:R25) -> 0
A26: ='t1'!A17 -> ELEVATE PROFESSIONALITA' | B26: ='t1'!B17 -> 0EP981 | S26: =SUM(C26:R26) -> 0
... A30: ='t1'!A21 -> CONTRATTISTI | B30: ='t1'!B21 -> 000061 | S30: =SUM(C30:R30) -> 0
A31: TOTALE ENTRATI | C31: =SUM(C15:C30) -> 0 | D31: =SUM(D15:D30) -> 0 | E31: =SUM(E15:E30) -> 0 | F31: =SUM(F15:F30) -> 0 | G31: =SUM(G15:G30) -> 0 | H31: =SUM(H15:H30) -> 0 | I31: =SUM(I15:I30) -> 0 | J31: =SUM(J15:J30) -> 0 | ... S31: =SUM(S15:S30) -> 0
A32: ='t1'!A23 -> (a) personale a tempo indeterminato al quale viene applicato un contratto di lavoro di tipo privatistico (es.:tipografico,chimico,edile,metalmeccanico,portierato, ecc.)

Sheet t5
A1: ='t1'!A1 -> ENTI PUBBLICI NON ECONOMICI - anno 2024
C3: N U M E R O D I D I P E N D E N T I
A4: qualifica/posizione economica/profilo | B4: Cod. | C4: Collocamento a riposo per limiti di età | E4: Dimissioni con diritto a pensione | G4: Passaggi per esternalizzazioni (*) | I4: Passaggi ad altra Amministrazione dello stesso comparto (*) | K4: Passaggi ad altra Amministrazione di altro comparto (*) | M4: Risoluz. rapporto di lavoro | O4: Licenziamenti disposti dall’ente | Q4: Dimissioni senza diritto a pensione | S4: Altre cause | U4: TOTALE
C5: C01 | E5: C03 | G5: C17 | I5: C18 | K5: C19 | M5: C21 | O5: C25 | Q5: C28 | S5: C99
C6: Uomini | D6: Donne | E6: Uomini | F6: Donne | G6: Uomini | H6: Donne | I6: Uomini | J6: Donne | K6: Uomini | L6: Donne | M6: Uomini | N6: Donne | O6: Uomini | P6: Donne | Q6: Uomini | R6: Donne | S6: Uomini | T6: Donne | U6: Uomini | V6: Donne
A7: ='t1'!A6 -> DIRETTORE GENERALE | B7: ='t1'!B6 -> 0D0097 | U7: =SUM(C7,E7,G7,I7,K7,M7,O7,Q7,S7) -> 0 | V7: =SUM(D7,F7,H7,J7,L7,N7,P7,R7,T7) -> 0
A8: ='t1'!A7 -> DIRIGENTE I FASCIA | B8: ='t1'!B7 -> 0D0077 | U8: =SUM(C8,E8,G8,I8,K8,M8,O8,Q8,S8) -> 0 | V8: =SUM(D8,F8,H8,J8,L8,N8,P8,R8,T8) -> 0
A9: ='t1'!A8 -> DIRIGENTE I FASCIA A TEMPO DETERM. | B9: ='t1'!B8 -> 0D0078 | U9: =SUM(C9,E9,G9,I9,K9,M9,O9,Q9,S9) -> 0 | V9: =SUM(D9,F9,H9,J9,L9,N9,P9,R9,T9) -> 0
A10: ='t1'!A9 -> DIRIGENTE II FASCIA | B10: ='t1'!B9 -> 0D0079 | U10: =SUM(C10,E10,G10,I10,K10,M10,O10,Q10,S10) -> 0 | V10: =SUM(D10,F10,H10,J10,L10,N10,P10,R10,T10) -> 0
A11: ='t1'!A10 -> DIRIGENTE II FASCIA A TEMPO DETERM. | B11: ='t1'!B10 -> 0D0080 | U11: =SUM(C11,E11,G11,I11,K11,M11,O11,Q11,S11) -> 0 | V11: =SUM(D11,F11,H11,J11,L11,N11,P11,R11,T11) -> 0
A12: ='t1'!A11 -> MEDICO II FASCIA T.P. | B12: ='t1'!B11 -> 0D0584 | U12: =SUM(C12,E12,G12,I12,K12,M12,O12,Q12,S12) -> 0 | V12: =SUM(D12,F12,H12,J12,L12,N12,P12,R12,T12) -> 0
A13: ='t1'!A12 -> MEDICO I FASCIA T.P. | B13: ='t1'!B12 -> 0D0585 | U13: =SUM(C13,E13,G13,I13,K13,M13,O13,Q13,S13) -> 0 | V13: =SUM(D13,F13,H13,J13,L13,N13,P13,R13,T13) -> 0
A14: ='t1'!A13 -> MEDICO II FASCIA T.D. | B14: ='t1'!B13 -> 0D0586 | U14: =SUM(C14,E14,G14,I14,K14,M14,O14,Q14,S14) -> 0 | V14: =SUM(D14,F14,H14,J14,L14,N14,P14,R14,T14) -> 0
A15: ='t1'!A14 -> MEDICO I FASCIA T.D. | B15: ='t1'!B14 -> 0D0496 | U15: =SUM(C15,E15,G15,I15,K15,M15,O15,Q15,S15) -> 0 | V15: =SUM(D15,F15,H15,J15,L15,N15,P15,R15,T15) -> 0
A16: ='t1'!A15 -> PROFESSIONISTI II LIVELLO | B16: ='t1'!B15 -> 0D0PR2 | U16: =SUM(C16,E16,G16,I16,K16,M16,O16,Q16,S16) -> 0 | V16: =SUM(D16,F16,H16,J16,L16,N16,P16,R16,T16) -> 0
A17: ='t1'!A16 -> PROFESSIONISTI I LIVELLO | B17: ='t1'!B16 -> 0D0PR1 | U17: =SUM(C17,E17,G17,I17,K17,M17,O17,Q17,S17) -> 0 | V17: =SUM(D17,F17,H17,J17,L17,N17,P17,R17,T17) -> 0
A18: ='t1'!A17 -> ELEVATE PROFESSIONALITA' | B18: ='t1'!B17 -> 0EP981 | U18: =SUM(C18,E18,G18,I18,K18,M18,O18,Q18,S18) -> 0 | V18: =SUM(D18,F18,H18,J18,L18,N18,P18,R18,T18) -> 0
... A22: ='t1'!A21 -> CONTRATTISTI | B22: ='t1'!B21 -> 000061 | U22: =SUM(C22,E22,G22,I22,K22,M22,O22,Q22,S22) -> 0 | V22: =SUM(D22,F22,H22,J22,L22,N22,P22,R22,T22) -> 0
A23: TOTALE | C23: =SUM(C7:C22) -> 0 | D23: =SUM(D7:D22) -> 0 | E23: =SUM(E7:E22) -> 0 | F23: =SUM(F7:F22) -> 0 | G23: =SUM(G7:G22) -> 0 | H23: =SUM(H7:H22) -> 0 | I23: =SUM(I7:I22) -> 0 | J23: =SUM(J7:J22) -> 0 | ... V23: =SUM(V7:V22) -> 0
A24: (*) Escluso il personale comandato e quello fuori ruolo
A25: ='t1'!$A$23 -> (a) personale a tempo indeterminato al quale viene applicato un contratto di lavoro di tipo privatistico (es.:tipografico,chimico,edile,metalmeccanico,portierato, ecc.)

Sheet t6
A1: ='t1'!A1 -> ENTI PUBBLICI NON ECONOMICI - anno 2024
C3: N U M E R O D I D I P E N D E N T I
A4: qualifica/posiz. economica/profilo | B4: Cod. | C4: Nomina da concorso | E4: Altre cause | G4: Personale stabilizzato da LSU/LPU | I4: Assunzione per chiamata diretta (L. 68/99 - categorie protette) | K4: Assunzione per chiamata numerica (L. 68/99 - categorie protette) | M4: Passaggi da altra Amministrazione dello stesso comparto (*) | O4: Passaggi da altra Amministrazione di altro comparto (*) | Q4: Personale stabilizzato ex Art. 35, c.3-Bis, DLGS 165/01 | S4: Personale stabilizzato ex art. 20 D.Lgs.75/2017 | U4: TOTALE
C5: A23 | E5: A24 | G5: A27 | I5: A28 | K5: A29 | M5: A30 | O5: A31 | Q5: A35 | S5: A41
A6: (sono evidenziate quelle valorizzate nella T1) | C6: Uomini | D6: Donne | E6: Uomini | F6: Donne | G6: Uomini | H6: Donne | I6: Uomini | J6: Donne | K6: Uomini | L6: Donne | M6: Uomini | N6: Donne | O6: Uomini | P6: Donne | Q6: Uomini | R6: Donne | S6: Uomini | T6: Donne | U6: Uomini | V6: Donne
A7: ='t1'!A6 -> DIRETTORE GENERALE | B7: ='t1'!B6 -> 0D0097 | U7: =SUM(C7,E7,G7,I7,K7,M7,O7,Q7,S7) -> 0 | V7: =SUM(D7,F7,H7,J7,L7,N7,P7,R7,T7) -> 0 | W7: ='t1'!M6 -> 0
A8: ='t1'!A7 -> DIRIGENTE I FASCIA | B8: ='t1'!B7 -> 0D0077 | U8: =SUM(C8,E8,G8,I8,K8,M8,O8,Q8,S8) -> 0 | V8: =SUM(D8,F8,H8,J8,L8,N8,P8,R8,T8) -> 0 | W8: ='t1'!M7 -> 0
A9: ='t1'!A8 -> DIRIGENTE I FASCIA A TEMPO DETERM. | B9: ='t1'!B8 -> 0D0078 | U9: =SUM(C9,E9,G9,I9,K9,M9,O9,Q9,S9) -> 0 | V9: =SUM(D9,F9,H9,J9,L9,N9,P9,R9,T9) -> 0 | W9: ='t1'!M8 -> 0
A10: ='t1'!A9 -> DIRIGENTE II FASCIA | B10: ='t1'!B9 -> 0D0079 | U10: =SUM(C10,E10,G10,I10,K10,M10,O10,Q10,S10) -> 0 | V10: =SUM(D10,F10,H10,J10,L10,N10,P10,R10,T10) -> 0 | W10: ='t1'!M9 -> 0
A11: ='t1'!A10 -> DIRIGENTE II FASCIA A TEMPO DETERM. | B11: ='t1'!B10 -> 0D0080 | U11: =SUM(C11,E11,G11,I11,K11,M11,O11,Q11,S11) -> 0 | V11: =SUM(D11,F11,H11,J11,L11,N11,P11,R11,T11) -> 0 | W11: ='t1'!M10 -> 0
A12: ='t1'!A11 -> MEDICO II FASCIA T.P. | B12: ='t1'!B11 -> 0D0584 | U12: =SUM(C12,E12,G12,I12,K12,M12,O12,Q12,S12) -> 0 | V12: =SUM(D12,F12,H12,J12,L12,N12,P12,R12,T12) -> 0 | W12: ='t1'!M11 -> 0
A13: ='t1'!A12 -> MEDICO I FASCIA T.P. | B13: ='t1'!B12 -> 0D0585 | U13: =SUM(C13,E13,G13,I13,K13,M13,O13,Q13,S13) -> 0 | V13: =SUM(D13,F13,H13,J13,L13,N13,P13,R13,T13) -> 0 | W13: ='t1'!M12 -> 0
A14: ='t1'!A13 -> MEDICO II FASCIA T.D. | B14: ='t1'!B13 -> 0D0586 | U14: =SUM(C14,E14,G14,I14,K14,M14,O14,Q14,S14) -> 0 | V14: =SUM(D14,F14,H14,J14,L14,N14,P14,R14,T14) -> 0 | W14: ='t1'!M13 -> 0
A15: ='t1'!A14 -> MEDICO I FASCIA T.D. | B15: ='t1'!B14 -> 0D0496 | U15: =SUM(C15,E15,G15,I15,K15,M15,O15,Q15,S15) -> 0 | V15: =SUM(D15,F15,H15,J15,L15,N15,P15,R15,T15) -> 0 | W15: ='t1'!M14 -> 0
A16: ='t1'!A15 -> PROFESSIONISTI II LIVELLO | B16: ='t1'!B15 -> 0D0PR2 | U16: =SUM(C16,E16,G16,I16,K16,M16,O16,Q16,S16) -> 0 | V16: =SUM(D16,F16,H16,J16,L16,N16,P16,R16,T16) -> 0 | W16: ='t1'!M15 -> 0
A17: ='t1'!A16 -> PROFESSIONISTI I LIVELLO | B17: ='t1'!B16 -> 0D0PR1 | U17: =SUM(C17,E17,G17,I17,K17,M17,O17,Q17,S17) -> 0 | V17: =SUM(D17,F17,H17,J17,L17,N17,P17,R17,T17) -> 0 | W17: ='t1'!M16 -> 0
A18: ='t1'!A17 -> ELEVATE PROFESSIONALITA' | B18: ='t1'!B17 -> 0EP981 | U18: =SUM(C18,E18,G18,I18,K18,M18,O18,Q18,S18) -> 0 | V18: =SUM(D18,F18,H18,J18,L18,N18,P18,R18,T18) -> 0 | W18: ='t1'!M17 -> 0
... A22: ='t1'!A21 -> CONTRATTISTI | B22: ='t1'!B21 -> 000061 | U22: =SUM(C22,E22,G22,I22,K22,M22,O22,Q22,S22) -> 0 | V22: =SUM(D22,F22,H22,J22,L22,N22,P22,R22,T22) -> 0 | W22: ='t1'!M21 -> 0
A23: TOTALE | C23: =SUM(C7:C22) -> 0 | D23: =SUM(D7:D22) -> 0 | E23: =SUM(E7:E22) -> 0 | F23: =SUM(F7:F22) -> 0 | G23: =SUM(G7:G22) -> 0 | H23: =SUM(H7:H22) -> 0 | I23: =SUM(I7:I22) -> 0 | J23: =SUM(J7:J22) -> 0 | ... V23: =SUM(V7:V22) -> 0
A25: ='t1'!$A$23 -> (a) personale a tempo indeterminato al quale viene applicato un contratto di lavoro di tipo privatistico (es.:tipografico,chimico,edile,metalmeccanico,portierato, ecc.)
A27: (*) Escluso il personale comandato e quello fuori ruolo

Sheet t7
A1: ='t1'!A1 -> ENTI PUBBLICI NON ECONOMICI - anno 2024
C3: N U M E R O D I D I P E N D E N T I
A4: Qualifica/Posiz.economica/Profilo | B4: Cod. | C4: tra 0 e 5 anni | E4: tra 6 e 10 anni | G4: tra 11 e 15 anni | I4: tra 16 e 20 anni | K4: tra 21 e 25 anni | M4: tra 26 e 30 anni | O4: tra 31 e 35 anni | Q4: tra 36 e 40 anni | S4: tra 41 e 43 anni | U4: 44 e oltre | W4: TOTALE
A5: (sono evidenziate quelle valorizzate nella T1) | C5: U | D5: D | E5: U | F5: D | G5: U | H5: D | I5: U | J5: D | K5: U | L5: D | M5: U | N5: D | O5: U | P5: D | Q5: U | R5: D | S5: U | T5: D | U5: U | V5: D | W5: U | X5: D
A6: ='t1'!A6 -> DIRETTORE GENERALE | B6: ='t1'!B6 -> 0D0097 | W6: =SUM(C6,E6,G6,I6,K6,M6,O6,Q6,S6,U6) -> 0 | X6: =SUM(D6,F6,H6,J6,L6,N6,P6,R6,T6,V6) -> 0 | Y6: ='t1'!M6 -> 0
A7: ='t1'!A7 -> DIRIGENTE I FASCIA | B7: ='t1'!B7 -> 0D0077 | W7: =SUM(C7,E7,G7,I7,K7,M7,O7,Q7,S7,U7) -> 0 | X7: =SUM(D7,F7,H7,J7,L7,N7,P7,R7,T7,V7) -> 0 | Y7: ='t1'!M7 -> 0
A8: ='t1'!A8 -> DIRIGENTE I FASCIA A TEMPO DETERM. | B8: ='t1'!B8 -> 0D0078 | W8: =SUM(C8,E8,G8,I8,K8,M8,O8,Q8,S8,U8) -> 0 | X8: =SUM(D8,F8,H8,J8,L8,N8,P8,R8,T8,V8) -> 0 | Y8: ='t1'!M8 -> 0
A9: ='t1'!A9 -> DIRIGENTE II FASCIA | B9: ='t1'!B9 -> 0D0079 | W9: =SUM(C9,E9,G9,I9,K9,M9,O9,Q9,S9,U9) -> 0 | X9: =SUM(D9,F9,H9,J9,L9,N9,P9,R9,T9,V9) -> 0 | Y9: ='t1'!M9 -> 0
A10: ='t1'!A10 -> DIRIGENTE II FASCIA A TEMPO DETERM. | B10: ='t1'!B10 -> 0D0080 | W10: =SUM(C10,E10,G10,I10,K10,M10,O10,Q10,S10,U10) -> 0 | X10: =SUM(D10,F10,H10,J10,L10,N10,P10,R10,T10,V10) -> 0 | Y10: ='t1'!M10 -> 0
A11: ='t1'!A11 -> MEDICO II FASCIA T.P. | B11: ='t1'!B11 -> 0D0584 | W11: =SUM(C11,E11,G11,I11,K11,M11,O11,Q11,S11,U11) -> 0 | X11: =SUM(D11,F11,H11,J11,L11,N11,P11,R11,T11,V11) -> 0 | Y11: ='t1'!M11 -> 0
A12: ='t1'!A12 -> MEDICO I FASCIA T.P. | B12: ='t1'!B12 -> 0D0585 | W12: =SUM(C12,E12,G12,I12,K12,M12,O12,Q12,S12,U12) -> 0 | X12: =SUM(D12,F12,H12,J12,L12,N12,P12,R12,T12,V12) -> 0 | Y12: ='t1'!M12 -> 0
A13: ='t1'!A13 -> MEDICO II FASCIA T.D. | B13: ='t1'!B13 -> 0D0586 | W13: =SUM(C13,E13,G13,I13,K13,M13,O13,Q13,S13,U13) -> 0 | X13: =SUM(D13,F13,H13,J13,L13,N13,P13,R13,T13,V13) -> 0 | Y13: ='t1'!M13 -> 0
A14: ='t1'!A14 -> MEDICO I FASCIA T.D. | B14: ='t1'!B14 -> 0D0496 | W14: =SUM(C14,E14,G14,I14,K14,M14,O14,Q14,S14,U14) -> 0 | X14: =SUM(D14,F14,H14,J14,L14,N14,P14,R14,T14,V14) -> 0 | Y14: ='t1'!M14 -> 0
A15: ='t1'!A15 -> PROFESSIONISTI II LIVELLO | B15: ='t1'!B15 -> 0D0PR2 | W15: =SUM(C15,E15,G15,I15,K15,M15,O15,Q15,S15,U15) -> 0 | X15: =SUM(D15,F15,H15,J15,L15,N15,P15,R15,T15,V15) -> 0 | Y15: ='t1'!M15 -> 0
A16: ='t1'!A16 -> PROFESSIONISTI I LIVELLO | B16: ='t1'!B16 -> 0D0PR1 | W16: =SUM(C16,E16,G16,I16,K16,M16,O16,Q16,S16,U16) -> 0 | X16: =SUM(D16,F16,H16,J16,L16,N16,P16,R16,T16,V16) -> 0 | Y16: ='t1'!M16 -> 0
A17: ='t1'!A17 -> ELEVATE PROFESSIONALITA' | B17: ='t1'!B17 -> 0EP981 | W17: =SUM(C17,E17,G17,I17,K17,M17,O17,Q17,S17,U17) -> 0 | X17: =SUM(D17,F17,H17,J17,L17,N17,P17,R17,T17,V17) -> 0 | Y17: ='t1'!M17 -> 0
A18: ='t1'!A18 -> FUNZIONARI | B18: ='t1'!B18 -> 0FZ000 | W18: =SUM(C18,E18,G18,I18,K18,M18,O18,Q18,S18,U18) -> 0 | X18: =SUM(D18,F18,H18,J18,L18,N18,P18,R18,T18,V18) -> 0 | Y18: ='t1'!M18 -> 0
A19: ='t1'!A19 -> ASSISTENTI | B19: ='t1'!B19 -> 0AS000 | J19: 1 | W19: =SUM(C19,E19,G19,I19,K19,M19,O19,Q19,S19,U19) -> 0 | X19: =SUM(D19,F19,H19,J19,L19,N19,P19,R19,T19,V19) -> 1 | Y19: ='t1'!M19 -> 1
A20: ='t1'!A20 -> OPERATORI | B20: ='t1'!B20 -> 0OP000 | W20: =SUM(C20,E20,G20,I20,K20,M20,O20,Q20,S20,U20) -> 0 | X20: =SUM(D20,F20,H20,J20,L20,N20,P20,R20,T20,V20) -> 0 | Y20: ='t1'!M20 -> 0
A21: ='t1'!A21 -> CONTRATTISTI | B21: ='t1'!B21 -> 000061 | W21: =SUM(C21,E21,G21,I21,K21,M21,O21,Q21,S21,U21) -> 0 | X21: =SUM(D21,F21,H21,J21,L21,N21,P21,R21,T21,V21) -> 0 | Y21: ='t1'!M21 -> 0
A22: TOTALE | C22: =SUM(C6:C21) -> 0 | D22: =SUM(D6:D21) -> 0 | E22: =SUM(E6:E21) -> 0 | F22: =SUM(F6:F21) -> 0 | G22: =SUM(G6:G21) -> 0 | H22: =SUM(H6:H21) -> 0 | I22: =SUM(I6:I21) -> 0 | J22: =SUM(J6:J21) -> 1 | ... X22: =SUM(X6:X21) -> 1
A23: ='t1'!$A$23 -> (a) personale a tempo indeterminato al quale viene applicato un contratto di lavoro di tipo privatistico (es.:tipografico,chimico,edile,metalmeccanico,portierato, ecc.)

Sheet t8
A1: ='t1'!A1 -> ENTI PUBBLICI NON ECONOMICI - anno 2024
C3: N U M E R O D I D I P E N D E N T I
A4: qualifica/posiz.economica/profilo | B4: Cod. | C4: fino a 19 anni | E4: tra 20 e 24 anni | G4: tra 25 e 29 anni | I4: tra 30 e 34 anni | K4: tra 35 e 39 anni | M4: tra 40 e 44 anni | O4: tra 45 e 49 anni | Q4: tra 50 e 54 anni | S4: tra 55 e 59 anni | U4: tra 60 e 64 anni | W4: tra 65 e 67 anni | Y4: 68 e oltre | AA4: TOTALE
A5: (sono evidenziate quelle valorizzate nella T1) | C5: U | D5: D | E5: U | F5: D | G5: U | H5: D | I5: U | J5: D | K5: U | L5: D | M5: U | N5: D | O5: U | P5: D | Q5: U | R5: D | S5: U | T5: D | U5: U | V5: D | W5: U | X5: D | Y5: U | Z5: D | AA5: U | AB5: D
A6: ='t1'!A6 -> DIRETTORE GENERALE | B6: ='t1'!B6 -> 0D0097 | AA6: =SUM(C6,E6,G6,I6,K6,M6,O6,Q6,S6,U6,W6,Y6) -> 0 | AB6: =SUM(D6,F6,H6,J6,L6,N6,P6,R6,T6,V6,X6,Z6) -> 0 | AC6: ='t1'!M6 -> 0
A7: ='t1'!A7 -> DIRIGENTE I FASCIA | B7: ='t1'!B7 -> 0D0077 | AA7: =SUM(C7,E7,G7,I7,K7,M7,O7,Q7,S7,U7,W7,Y7) -> 0 | AB7: =SUM(D7,F7,H7,J7,L7,N7,P7,R7,T7,V7,X7,Z7) -> 0 | AC7: ='t1'!M7 -> 0
A8: ='t1'!A8 -> DIRIGENTE I FASCIA A TEMPO DETERM. | B8: ='t1'!B8 -> 0D0078 | AA8: =SUM(C8,E8,G8,I8,K8,M8,O8,Q8,S8,U8,W8,Y8) -> 0 | AB8: =SUM(D8,F8,H8,J8,L8,N8,P8,R8,T8,V8,X8,Z8) -> 0 | AC8: ='t1'!M8 -> 0
A9: ='t1'!A9 -> DIRIGENTE II FASCIA | B9: ='t1'!B9 -> 0D0079 | AA9: =SUM(C9,E9,G9,I9,K9,M9,O9,Q9,S9,U9,W9,Y9) -> 0 | AB9: =SUM(D9,F9,H9,J9,L9,N9,P9,R9,T9,V9,X9,Z9) -> 0 | AC9: ='t1'!M9 -> 0
A10: ='t1'!A10 -> DIRIGENTE II FASCIA A TEMPO DETERM. | B10: ='t1'!B10 -> 0D0080 | AA10: =SUM(C10,E10,G10,I10,K10,M10,O10,Q10,S10,U10,W10,Y10) -> 0 | AB10: =SUM(D10,F10,H10,J10,L10,N10,P10,R10,T10,V10,X10,Z10) -> 0 | AC10: ='t1'!M10 -> 0
A11: ='t1'!A11 -> MEDICO II FASCIA T.P. | B11: ='t1'!B11 -> 0D0584 | AA11: =SUM(C11,E11,G11,I11,K11,M11,O11,Q11,S11,U11,W11,Y11) -> 0 | AB11: =SUM(D11,F11,H11,J11,L11,N11,P11,R11,T11,V11,X11,Z11) -> 0 | AC11: ='t1'!M11 -> 0
A12: ='t1'!A12 -> MEDICO I FASCIA T.P. | B12: ='t1'!B12 -> 0D0585 | AA12: =SUM(C12,E12,G12,I12,K12,M12,O12,Q12,S12,U12,W12,Y12) -> 0 | AB12: =SUM(D12,F12,H12,J12,L12,N12,P12,R12,T12,V12,X12,Z12) -> 0 | AC12: ='t1'!M12 -> 0
A13: ='t1'!A13 -> MEDICO II FASCIA T.D. | B13: ='t1'!B13 -> 0D0586 | AA13: =SUM(C13,E13,G13,I13,K13,M13,O13,Q13,S13,U13,W13,Y13) -> 0 | AB13: =SUM(D13,F13,H13,J13,L13,N13,P13,R13,T13,V13,X13,Z13) -> 0 | AC13: ='t1'!M13 -> 0
A14: ='t1'!A14 -> MEDICO I FASCIA T.D. | B14: ='t1'!B14 -> 0D0496 | AA14: =SUM(C14,E14,G14,I14,K14,M14,O14,Q14,S14,U14,W14,Y14) -> 0 | AB14: =SUM(D14,F14,H14,J14,L14,N14,P14,R14,T14,V14,X14,Z14) -> 0 | AC14: ='t1'!M14 -> 0
A15: ='t1'!A15 -> PROFESSIONISTI II LIVELLO | B15: ='t1'!B15 -> 0D0PR2 | AA15: =SUM(C15,E15,G15,I15,K15,M15,O15,Q15,S15,U15,W15,Y15) -> 0 | AB15: =SUM(D15,F15,H15,J15,L15,N15,P15,R15,T15,V15,X15,Z15) -> 0 | AC15: ='t1'!M15 -> 0
A16: ='t1'!A16 -> PROFESSIONISTI I LIVELLO | B16: ='t1'!B16 -> 0D0PR1 | AA16: =SUM(C16,E16,G16,I16,K16,M16,O16,Q16,S16,U16,W16,Y16) -> 0 | AB16: =SUM(D16,F16,H16,J16,L16,N16,P16,R16,T16,V16,X16,Z16) -> 0 | AC16: ='t1'!M16 -> 0
A17: ='t1'!A17 -> ELEVATE PROFESSIONALITA' | B17: ='t1'!B17 -> 0EP981 | AA17: =SUM(C17,E17,G17,I17,K17,M17,O17,Q17,S17,U17,W17,Y17) -> 0 | AB17: =SUM(D17,F17,H17,J17,L17,N17,P17,R17,T17,V17,X17,Z17) -> 0 | AC17: ='t1'!M17 -> 0
A18: ='t1'!A18 -> FUNZIONARI | B18: ='t1'!B18 -> 0FZ000 | AA18: =SUM(C18,E18,G18,I18,K18,M18,O18,Q18,S18,U18,W18,Y18) -> 0 | AB18: =SUM(D18,F18,H18,J18,L18,N18,P18,R18,T18,V18,X18,Z18) -> 0 | AC18: ='t1'!M18 -> 0
A19: ='t1'!A19 -> ASSISTENTI | B19: ='t1'!B19 -> 0AS000 | V19: 1 | AA19: =SUM(C19,E19,G19,I19,K19,M19,O19,Q19,S19,U19,W19,Y19) -> 0 | AB19: =SUM(D19,F19,H19,J19,L19,N19,P19,R19,T19,V19,X19,Z19) -> 1 | AC19: ='t1'!M19 -> 1
A20: ='t1'!A20 -> OPERATORI | B20: ='t1'!B20 -> 0OP000 | AA20: =SUM(C20,E20,G20,I20,K20,M20,O20,Q20,S20,U20,W20,Y20) -> 0 | AB20: =SUM(D20,F20,H20,J20,L20,N20,P20,R20,T20,V20,X20,Z20) -> 0 | AC20: ='t1'!M20 -> 0
A21: ='t1'!A21 -> CONTRATTISTI | B21: ='t1'!B21 -> 000061 | AA21: =SUM(C21,E21,G21,I21,K21,M21,O21,Q21,S21,U21,W21,Y21) -> 0 | AB21: =SUM(D21,F21,H21,J21,L21,N21,P21,R21,T21,V21,X21,Z21) -> 0 | AC21: ='t1'!M21 -> 0
A22: TOTALE | C22: =SUM(C6:C21) -> 0 | D22: =SUM(D6:D21) -> 0 | E22: =SUM(E6:E21) -> 0 | F22: =SUM(F6:F21) -> 0 | G22: =SUM(G6:G21) -> 0 | H22: =SUM(H6:H21) -> 0 | I22: =SUM(I6:I21) -> 0 | J22: =SUM(J6:J21) -> 0 | ... AB22: =SUM(AB6:AB21) -> 1
A24: ='t1'!$A$23 -> (a) personale a tempo indeterminato al quale viene applicato un contratto di lavoro di tipo privatistico (es.:tipografico,chimico,edile,metalmeccanico,portierato, ecc.)

Sheet t9
A1: ='t1'!A1 -> ENTI PUBBLICI NON ECONOMICI - anno 2024
A4: qualifica/posiz.economica/profilo | B4: Cod. | C4: FINO ALLA SCUOLA DELL'OBBLIGO | E4: LIC. MEDIA SUPERIORE | G4: LAUREA BREVE | I4: LAUREA | K4: SPECIALIZZAZIONE POST LAUREA/ DOTTORATO DI RICERCA | M4: ALTRI TITOLI POST LAUREA | O4: TOTALE
A5: (sono evidenziate quelle valorizzate nella T1) | C5: Uomini | D5: Donne | E5: Uomini | F5: Donne | G5: Uomini | H5: Donne | I5: Uomini | J5: Donne | K5: Uomini | L5: Donne | M5: Uomini | N5: Donne | O5: Uomini | P5: Donne
A6: ='t1'!A6 -> DIRETTORE GENERALE | B6: ='t1'!B6 -> 0D0097 | O6: =SUM(C6,E6,G6,I6,K6,M6) -> 0 | P6: =SUM(D6,F6,H6,J6,L6,N6) -> 0 | Q6: ='t1'!M6 -> 0
A7: ='t1'!A7 -> DIRIGENTE I FASCIA | B7: ='t1'!B7 -> 0D0077 | O7: =SUM(C7,E7,G7,I7,K7,M7) -> 0 | P7: =SUM(D7,F7,H7,J7,L7,N7) -> 0 | Q7: ='t1'!M7 -> 0
A8: ='t1'!A8 -> DIRIGENTE I FASCIA A TEMPO DETERM. | B8: ='t1'!B8 -> 0D0078 | O8: =SUM(C8,E8,G8,I8,K8,M8) -> 0 | P8: =SUM(D8,F8,H8,J8,L8,N8) -> 0 | Q8: ='t1'!M8 -> 0
A9: ='t1'!A9 -> DIRIGENTE II FASCIA | B9: ='t1'!B9 -> 0D0079 | O9: =SUM(C9,E9,G9,I9,K9,M9) -> 0 | P9: =SUM(D9,F9,H9,J9,L9,N9) -> 0 | Q9: ='t1'!M9 -> 0
A10: ='t1'!A10 -> DIRIGENTE II FASCIA A TEMPO DETERM. | B10: ='t1'!B10 -> 0D0080 | O10: =SUM(C10,E10,G10,I10,K10,M10) -> 0 | P10: =SUM(D10,F10,H10,J10,L10,N10) -> 0 | Q10: ='t1'!M10 -> 0
A11: ='t1'!A11 -> MEDICO II FASCIA T.P. | B11: ='t1'!B11 -> 0D0584 | O11: =SUM(C11,E11,G11,I11,K11,M11) -> 0 | P11: =SUM(D11,F11,H11,J11,L11,N11) -> 0 | Q11: ='t1'!M11 -> 0
A12: ='t1'!A12 -> MEDICO I FASCIA T.P. | B12: ='t1'!B12 -> 0D0585 | O12: =SUM(C12,E12,G12,I12,K12,M12) -> 0 | P12: =SUM(D12,F12,H12,J12,L12,N12) -> 0 | Q12: ='t1'!M12 -> 0
A13: ='t1'!A13 -> MEDICO II FASCIA T.D. | B13: ='t1'!B13 -> 0D0586 | O13: =SUM(C13,E13,G13,I13,K13,M13) -> 0 | P13: =SUM(D13,F13,H13,J13,L13,N13) -> 0 | Q13: ='t1'!M13 -> 0
A14: ='t1'!A14 -> MEDICO I FASCIA T.D. | B14: ='t1'!B14 -> 0D0496 | O14: =SUM(C14,E14,G14,I14,K14,M14) -> 0 | P14: =SUM(D14,F14,H14,J14,L14,N14) -> 0 | Q14: ='t1'!M14 -> 0
A15: ='t1'!A15 -> PROFESSIONISTI II LIVELLO | B15: ='t1'!B15 -> 0D0PR2 | O15: =SUM(C15,E15,G15,I15,K15,M15) -> 0 | P15: =SUM(D15,F15,H15,J15,L15,N15) -> 0 | Q15: ='t1'!M15 -> 0
A16: ='t1'!A16 -> PROFESSIONISTI I LIVELLO | B16: ='t1'!B16 -> 0D0PR1 | O16: =SUM(C16,E16,G16,I16,K16,M16) -> 0 | P16: =SUM(D16,F16,H16,J16,L16,N16) -> 0 | Q16: ='t1'!M16 -> 0
A17: ='t1'!A17 -> ELEVATE PROFESSIONALITA' | B17: ='t1'!B17 -> 0EP981 | O17: =SUM(C17,E17,G17,I17,K17,M17) -> 0 | P17: =SUM(D17,F17,H17,J17,L17,N17) -> 0 | Q17: ='t1'!M17 -> 0
A18: ='t1'!A18 -> FUNZIONARI | B18: ='t1'!B18 -> 0FZ000 | O18: =SUM(C18,E18,G18,I18,K18,M18) -> 0 | P18: =SUM(D18,F18,H18,J18,L18,N18) -> 0 | Q18: ='t1'!M18 -> 0
A19: ='t1'!A19 -> ASSISTENTI | B19: ='t1'!B19 -> 0AS000 | F19: 1 | O19: =SUM(C19,E19,G19,I19,K19,M19) -> 0 | P19: =SUM(D19,F19,H19,J19,L19,N19) -> 1 | Q19: ='t1'!M19 -> 1
A20: ='t1'!A20 -> OPERATORI | B20: ='t1'!B20 -> 0OP000 | O20: =SUM(C20,E20,G20,I20,K20,M20) -> 0 | P20: =SUM(D20,F20,H20,J20,L20,N20) -> 0 | Q20: ='t1'!M20 -> 0
A21: ='t1'!A21 -> CONTRATTISTI | B21: ='t1'!B21 -> 000061 | O21: =SUM(C21,E21,G21,I21,K21,M21) -> 0 | P21: =SUM(D21,F21,H21,J21,L21,N21) -> 0 | Q21: ='t1'!M21 -> 0
A22: TOTALE | C22: =SUM(C6:C21) -> 0 | D22: =SUM(D6:D21) -> 0 | E22: =SUM(E6:E21) -> 0 | F22: =SUM(F6:F21) -> 1 | G22: =SUM(G6:G21) -> 0 | H22: =SUM(H6:H21) -> 0 | I22: =SUM(I6:I21) -> 0 | J22: =SUM(J6:J21) -> 0 | ... P22: =SUM(P6:P21) -> 1
A23: ='t1'!$A$23 -> (a) personale a tempo indeterminato al quale viene applicato un contratto di lavoro di tipo privatistico (es.:tipografico,chimico,edile,metalmeccanico,portierato, ecc.)

Sheet t10
A1: ATTENZIONE: non compilare in caso in cui l'ente non è tenuto all'invio | C1: ='t1'!A1 -> ENTI PUBBLICI NON ECONOMICI - anno 2024 | AA1: =C1 -> ENTI PUBBLICI NON ECONOMICI - anno 2024
B3: N U M E R O D I D I P E N D E N T I
A4: qualifica/posiz.economica/profilo | B4: cod. | C4: ESTERO | E4: ABRUZZO | G4: BASILICATA | I4: CALABRIA | K4: CAMPANIA | M4: EMILIA ROMAGNA | O4: FRIULI VENEZIA GIULIA | Q4: LAZIO | S4: LIGURIA | U4: LOMBARDIA | W4: MARCHE | Y4: MOLISE | AA4: PIEMONTE | AC4: PUGLIA | AE4: SARDEGNA | AG4: SICILIA | AI4: TOSCANA | AK4: UMBRIA | AM4: VALLE D'AOSTA | AO4: VENETO | AQ4: PROVINCIA AUTONOMA TRENTO | AS4: PROVINCIA AUTONOMA BOLZANO | AU4: TOTALE | AX4: TOTALE del personale da distribuire
A5: (sono evidenziate quelle valorizzate nella T1) | C5: Uomini | D5: Donne | E5: Uomini | F5: Donne | G5: Uomini | H5: Donne | I5: Uomini | J5: Donne | K5: Uomini | L5: Donne | M5: Uomini | N5: Donne | O5: Uomini | P5: Donne | Q5: Uomini | R5: Donne | S5: Uomini | T5: Donne | U5: Uomini | V5: Donne | W5: Uomini | X5: Donne | Y5: Uomini | Z5: Donne | AA5: Uomini | AB5: Donne | AC5: Uomini | AD5: Donne | AE5: Uomini | AF5: Donne | AG5: Uomini | AH5: Donne | AI5: Uomini | AJ5: Donne | AK5: Uomini | AL5: Donne | AM5: Uomini | AN5: Donne | AO5: Uomini | AP5: Donne | AQ5: Uomini | AR5: Donne | AS5: Uomini | AT5: Donne | AU5: Uomini | AV5: Donne | AX5: Uomini | AY5: Donne
A6: ='t1'!A6 -> DIRETTORE GENERALE | B6: ='t1'!B6 -> 0D0097 | AU6: =SUM(S6,U6,W6,Y6,C6,E6,G6,I6,K6,M6,O6,Q6,AA6,AC6,AE6,AG6,AI6,AK6,AM6,AO6,AQ6,AS6) -> 0 | AV6: =SUM(T6,V6,X6,Z6,D6,F6,H6,J6,L6,N6,P6,R6,AB6,AD6,AF6,AH6,AJ6,AL6,AN6,AP6,AR6,AT6) -> 0 | AW6: =IF((AU6+AV6)=(AX6+AY6),"OK","Controllare totale") -> OK | AX6: ='t1'!K6-'t3'!C6-'t3'!E6-'t3'!G6-'t3'!I6+'t3'!K6+'t3'!M6+'t3'!O6 -> 0 | AY6: ='t1'!L6-'t3'!D6-'t3'!F6-'t3'!H6-'t3'!J6+'t3'!L6+'t3'!N6+'t3'!P6 -> 0 | AZ6: ='t1'!M6 -> 0
A7: ='t1'!A7 -> DIRIGENTE I FASCIA | B7: ='t1'!B7 -> 0D0077 | AU7: =SUM(C7,E7,G7,I7,K7,M7,O7,Q7,S7,U7,W7,Y7,AA7,AC7,AE7,AG7,AI7,AK7,AM7,AO7,AQ7,AS7) -> 0 | AV7: =SUM(T7,V7,X7,Z7,D7,F7,H7,J7,L7,N7,P7,R7,AB7,AD7,AF7,AH7,AJ7,AL7,AN7,AP7,AR7,AT7) -> 0 | AW7: =IF((AU7+AV7)=(AX7+AY7),"OK","Controllare totale") -> OK | AX7: ='t1'!K7-'t3'!C7-'t3'!E7-'t3'!G7-'t3'!I7+'t3'!K7+'t3'!M7+'t3'!O7 -> 0 | AY7: ='t1'!L7-'t3'!D7-'t3'!F7-'t3'!H7-'t3'!J7+'t3'!L7+'t3'!N7+'t3'!P7 -> 0 | AZ7: ='t1'!M7 -> 0
A8: ='t1'!A8 -> DIRIGENTE I FASCIA A TEMPO DETERM. | B8: ='t1'!B8 -> 0D0078 | AU8: =SUM(S8,U8,W8,Y8,C8,E8,G8,I8,K8,M8,O8,Q8,AA8,AC8,AE8,AG8,AI8,AK8,AM8,AO8,AQ8,AS8) -> 0 | AV8: =SUM(T8,V8,X8,Z8,D8,F8,H8,J8,L8,N8,P8,R8,AB8,AD8,AF8,AH8,AJ8,AL8,AN8,AP8,AR8,AT8) -> 0 | AW8: =IF((AU8+AV8)=(AX8+AY8),"OK","Controllare totale") -> OK | AX8: ='t1'!K8-'t3'!C8-'t3'!E8-'t3'!G8-'t3'!I8+'t3'!K8+'t3'!M8+'t3'!O8 -> 0 | AY8: ='t1'!L8-'t3'!D8-'t3'!F8-'t3'!H8-'t3'!J8+'t3'!L8+'t3'!N8+'t3'!P8 -> 0 | AZ8: ='t1'!M8 -> 0
A9: ='t1'!A9 -> DIRIGENTE II FASCIA | B9: ='t1'!B9 -> 0D0079 | AU9: =SUM(S9,U9,W9,Y9,C9,E9,G9,I9,K9,M9,O9,Q9,AA9,AC9,AE9,AG9,AI9,AK9,AM9,AO9,AQ9,AS9) -> 0 | AV9: =SUM(T9,V9,X9,Z9,D9,F9,H9,J9,L9,N9,P9,R9,AB9,AD9,AF9,AH9,AJ9,AL9,AN9,AP9,AR9,AT9) -> 0 | AW9: =IF((AU9+AV9)=(AX9+AY9),"OK","Controllare totale") -> OK | AX9: ='t1'!K9-'t3'!C9-'t3'!E9-'t3'!G9-'t3'!I9+'t3'!K9+'t3'!M9+'t3'!O9 -> 0 | AY9: ='t1'!L9-'t3'!D9-'t3'!F9-'t3'!H9-'t3'!J9+'t3'!L9+'t3'!N9+'t3'!P9 -> 0 | AZ9: ='t1'!M9 -> 0
A10: ='t1'!A10 -> DIRIGENTE II FASCIA A TEMPO DETERM. | B10: ='t1'!B10 -> 0D0080 | AU10: =SUM(S10,U10,W10,Y10,C10,E10,G10,I10,K10,M10,O10,Q10,AA10,AC10,AE10,AG10,AI10,AK10,AM10,AO10,AQ10,AS10) -> 0 | AV10: =SUM(T10,V10,X10,Z10,D10,F10,H10,J10,L10,N10,P10,R10,AB10,AD10,AF10,AH10,AJ10,AL10,AN10,AP10,AR10,AT10) -> 0 | AW10: =IF((AU10+AV10)=(AX10+AY10),"OK","Controllare totale") -> OK | AX10: ='t1'!K10-'t3'!C10-'t3'!E10-'t3'!G10-'t3'!I10+'t3'!K10+'t3'!M10+'t3'!O10 -> 0 | AY10: ='t1'!L10-'t3'!D10-'t3'!F10-'t3'!H10-'t3'!J10+'t3'!L10+'t3'!N10+'t3'!P10 -> 0 | AZ10: ='t1'!M10 -> 0
A11: ='t1'!A11 -> MEDICO II FASCIA T.P. | B11: ='t1'!B11 -> 0D0584 | AU11: =SUM(S11,U11,W11,Y11,C11,E11,G11,I11,K11,M11,O11,Q11,AA11,AC11,AE11,AG11,AI11,AK11,AM11,AO11,AQ11,AS11) -> 0 | AV11: =SUM(T11,V11,X11,Z11,D11,F11,H11,J11,L11,N11,P11,R11,AB11,AD11,AF11,AH11,AJ11,AL11,AN11,AP11,AR11,AT11) -> 0 | AW11: =IF((AU11+AV11)=(AX11+AY11),"OK","Controllare totale") -> OK | AX11: ='t1'!K11-'t3'!C11-'t3'!E11-'t3'!G11-'t3'!I11+'t3'!K11+'t3'!M11+'t3'!O11 -> 0 | AY11: ='t1'!L11-'t3'!D11-'t3'!F11-'t3'!H11-'t3'!J11+'t3'!L11+'t3'!N11+'t3'!P11 -> 0 | AZ11: ='t1'!M11 -> 0
A12: ='t1'!A12 -> MEDICO I FASCIA T.P. | B12: ='t1'!B12 -> 0D0585 | AU12: =SUM(S12,U12,W12,Y12,C12,E12,G12,I12,K12,M12,O12,Q12,AA12,AC12,AE12,AG12,AI12,AK12,AM12,AO12,AQ12,AS12) -> 0 | AV12: =SUM(T12,V12,X12,Z12,D12,F12,H12,J12,L12,N12,P12,R12,AB12,AD12,AF12,AH12,AJ12,AL12,AN12,AP12,AR12,AT12) -> 0 | AW12: =IF((AU12+AV12)=(AX12+AY12),"OK","Controllare totale") -> OK | AX12: ='t1'!K12-'t3'!C12-'t3'!E12-'t3'!G12-'t3'!I12+'t3'!K12+'t3'!M12+'t3'!O12 -> 0 | AY12: ='t1'!L12-'t3'!D12-'t3'!F12-'t3'!H12-'t3'!J12+'t3'!L12+'t3'!N12+'t3'!P12 -> 0 | AZ12: ='t1'!M12 -> 0
A13: ='t1'!A13 -> MEDICO II FASCIA T.D. | B13: ='t1'!B13 -> 0D0586 | AU13: =SUM(S13,U13,W13,Y13,C13,E13,G13,I13,K13,M13,O13,Q13,AA13,AC13,AE13,AG13,AI13,AK13,AM13,AO13,AQ13,AS13) -> 0 | AV13: =SUM(T13,V13,X13,Z13,D13,F13,H13,J13,L13,N13,P13,R13,AB13,AD13,AF13,AH13,AJ13,AL13,AN13,AP13,AR13,AT13) -> 0 | AW13: =IF((AU13+AV13)=(AX13+AY13),"OK","Controllare totale") -> OK | AX13: ='t1'!K13-'t3'!C13-'t3'!E13-'t3'!G13-'t3'!I13+'t3'!K13+'t3'!M13+'t3'!O13 -> 0 | AY13: ='t1'!L13-'t3'!D13-'t3'!F13-'t3'!H13-'t3'!J13+'t3'!L13+'t3'!N13+'t3'!P13 -> 0 | AZ13: ='t1'!M13 -> 0
A14: ='t1'!A14 -> MEDICO I FASCIA T.D. | B14: ='t1'!B14 -> 0D0496 | AU14: =SUM(S14,U14,W14,Y14,C14,E14,G14,I14,K14,M14,O14,Q14,AA14,AC14,AE14,AG14,AI14,AK14,AM14,AO14,AQ14,AS14) -> 0 | AV14: =SUM(T14,V14,X14,Z14,D14,F14,H14,J14,L14,N14,P14,R14,AB14,AD14,AF14,AH14,AJ14,AL14,AN14,AP14,AR14,AT14) -> 0 | AW14: =IF((AU14+AV14)=(AX14+AY14),"OK","Controllare totale") -> OK | AX14: ='t1'!K14-'t3'!C14-'t3'!E14-'t3'!G14-'t3'!I14+'t3'!K14+'t3'!M14+'t3'!O14 -> 0 | AY14: ='t1'!L14-'t3'!D14-'t3'!F14-'t3'!H14-'t3'!J14+'t3'!L14+'t3'!N14+'t3'!P14 -> 0 | AZ14: ='t1'!M14 -> 0
A15: ='t1'!A15 -> PROFESSIONISTI II LIVELLO | B15: ='t1'!B15 -> 0D0PR2 | AU15: =SUM(S15,U15,W15,Y15,C15,E15,G15,I15,K15,M15,O15,Q15,AA15,AC15,AE15,AG15,AI15,AK15,AM15,AO15,AQ15,AS15) -> 0 | AV15: =SUM(T15,V15,X15,Z15,D15,F15,H15,J15,L15,N15,P15,R15,AB15,AD15,AF15,AH15,AJ15,AL15,AN15,AP15,AR15,AT15) -> 0 | AW15: =IF((AU15+AV15)=(AX15+AY15),"OK","Controllare totale") -> OK | AX15: ='t1'!K15-'t3'!C15-'t3'!E15-'t3'!G15-'t3'!I15+'t3'!K15+'t3'!M15+'t3'!O15 -> 0 | AY15: ='t1'!L15-'t3'!D15-'t3'!F15-'t3'!H15-'t3'!J15+'t3'!L15+'t3'!N15+'t3'!P15 -> 0 | AZ15: ='t1'!M15 -> 0
A16: ='t1'!A16 -> PROFESSIONISTI I LIVELLO | B16: ='t1'!B16 -> 0D0PR1 | AU16: =SUM(S16,U16,W16,Y16,C16,E16,G16,I16,K16,M16,O16,Q16,AA16,AC16,AE16,AG16,AI16,AK16,AM16,AO16,AQ16,AS16) -> 0 | AV16: =SUM(T16,V16,X16,Z16,D16,F16,H16,J16,L16,N16,P16,R16,AB16,AD16,AF16,AH16,AJ16,AL16,AN16,AP16,AR16,AT16) -> 0 | AW16: =IF((AU16+AV16)=(AX16+AY16),"OK","Controllare totale") -> OK | AX16: ='t1'!K16-'t3'!C16-'t3'!E16-'t3'!G16-'t3'!I16+'t3'!K16+'t3'!M16+'t3'!O16 -> 0 | AY16: ='t1'!L16-'t3'!D16-'t3'!F16-'t3'!H16-'t3'!J16+'t3'!L16+'t3'!N16+'t3'!P16 -> 0 | AZ16: ='t1'!M16 -> 0
A17: ='t1'!A17 -> ELEVATE PROFESSIONALITA' | B17: ='t1'!B17 -> 0EP981 | AU17: =SUM(S17,U17,W17,Y17,C17,E17,G17,I17,K17,M17,O17,Q17,AA17,AC17,AE17,AG17,AI17,AK17,AM17,AO17,AQ17,AS17) -> 0 | AV17: =SUM(T17,V17,X17,Z17,D17,F17,H17,J17,L17,N17,P17,R17,AB17,AD17,AF17,AH17,AJ17,AL17,AN17,AP17,AR17,AT17) -> 0 | AW17: =IF((AU17+AV17)=(AX17+AY17),"OK","Controllare totale") -> OK | AX17: ='t1'!K17-'t3'!C17-'t3'!E17-'t3'!G17-'t3'!I17+'t3'!K17+'t3'!M17+'t3'!O17 -> 0 | AY17: ='t1'!L17-'t3'!D17-'t3'!F17-'t3'!H17-'t3'!J17+'t3'!L17+'t3'!N17+'t3'!P17 -> 0 | AZ17: ='t1'!M17 -> 0
A18: ='t1'!A18 -> FUNZIONARI | B18: ='t1'!B18 -> 0FZ000 | AU18: =SUM(S18,U18,W18,Y18,C18,E18,G18,I18,K18,M18,O18,Q18,AA18,AC18,AE18,AG18,AI18,AK18,AM18,AO18,AQ18,AS18) -> 0 | AV18: =SUM(T18,V18,X18,Z18,D18,F18,H18,J18,L18,N18,P18,R18,AB18,AD18,AF18,AH18,AJ18,AL18,AN18,AP18,AR18,AT18) -> 0 | AW18: =IF((AU18+AV18)=(AX18+AY18),"OK","Controllare totale") -> OK | AX18: ='t1'!K18-'t3'!C18-'t3'!E18-'t3'!G18-'t3'!I18+'t3'!K18+'t3'!M18+'t3'!O18 -> 0 | AY18: ='t1'!L18-'t3'!D18-'t3'!F18-'t3'!H18-'t3'!J18+'t3'!L18+'t3'!N18+'t3'!P18 -> 0 | AZ18: ='t1'!M18 -> 0
A19: ='t1'!A19 -> ASSISTENTI | B19: ='t1'!B19 -> 0AS000 | AB19: 1 | AU19: =SUM(S19,U19,W19,Y19,C19,E19,G19,I19,K19,M19,O19,Q19,AA19,AC19,AE19,AG19,AI19,AK19,AM19,AO19,AQ19,AS19) -> 0 | AV19: =SUM(T19,V19,X19,Z19,D19,F19,H19,J19,L19,N19,P19,R19,AB19,AD19,AF19,AH19,AJ19,AL19,AN19,AP19,AR19,AT19) -> 1 | AW19: =IF((AU19+AV19)=(AX19+AY19),"OK","Controllare totale") -> OK | AX19: ='t1'!K19-'t3'!C19-'t3'!E19-'t3'!G19-'t3'!I19+'t3'!K19+'t3'!M19+'t3'!O19 -> 0 | AY19: ='t1'!L19-'t3'!D19-'t3'!F19-'t3'!H19-'t3'!J19+'t3'!L19+'t3'!N19+'t3'!P19 -> 1 | AZ19: ='t1'!M19 -> 1
A20: ='t1'!A20 -> OPERATORI | B20: ='t1'!B20 -> 0OP000 | AU20: =SUM(S20,U20,W20,Y20,C20,E20,G20,I20,K20,M20,O20,Q20,AA20,AC20,AE20,AG20,AI20,AK20,AM20,AO20,AQ20,AS20) -> 0 | AV20: =SUM(T20,V20,X20,Z20,D20,F20,H20,J20,L20,N20,P20,R20,AB20,AD20,AF20,AH20,AJ20,AL20,AN20,AP20,AR20,AT20) -> 0 | AW20: =IF((AU20+AV20)=(AX20+AY20),"OK","Controllare totale") -> OK | AX20: ='t1'!K20-'t3'!C20-'t3'!E20-'t3'!G20-'t3'!I20+'t3'!K20+'t3'!M20+'t3'!O20 -> 0 | AY20: ='t1'!L20-'t3'!D20-'t3'!F20-'t3'!H20-'t3'!J20+'t3'!L20+'t3'!N20+'t3'!P20 -> 0 | AZ20: ='t1'!M20 -> 0
